BEGIN:VCALENDAR
VERSION:2.0
PRODID:-//Runtra - ECPv6.0.8//NONSGML v1.0//EN
CALSCALE:GREGORIAN
METHOD:PUBLISH
X-WR-CALNAME:Runtra
X-ORIGINAL-URL:https://staging5.runtra.com
X-WR-CALDESC:Events for Runtra
REFRESH-INTERVAL;VALUE=DURATION:PT1H
X-Robots-Tag:noindex
X-PUBLISHED-TTL:PT1H
BEGIN:VTIMEZONE
TZID:America/Chicago
BEGIN:DAYLIGHT
TZOFFSETFROM:-0600
TZOFFSETTO:-0500
TZNAME:CDT
DTSTART:20240310T080000
END:DAYLIGHT
BEGIN:STANDARD
TZOFFSETFROM:-0500
TZOFFSETTO:-0600
TZNAME:CST
DTSTART:20241103T070000
END:STANDARD
END:VTIMEZONE
BEGIN:VEVENT
DTSTART;TZID=America/Chicago:20240402T053000
DTEND;TZID=America/Chicago:20240402T080000
DTSTAMP:20260421T155531
CREATED:20221225T054242Z
LAST-MODIFIED:20230215T042654Z
UID:10000489-1712035800-1712044800@staging5.runtra.com
SUMMARY:Lalbagh Daily Morning Run
DESCRIPTION:Meet at Lalbagh entrance daily (Tu-Thu) at 6:00 AM for a 5KM to 10KM run.
URL:https://staging5.runtra.com/event/lalbagh-daily-morning-run/2024-04-02/
LOCATION:Lalbagh\, Lalbagh\, Bengaulru\, 560027\, India
CATEGORIES:Long Run
ATTACH;FMTTYPE=image/jpeg:https://staging5.runtra.com/wp-content/uploads/2022/12/20190723-running.jpg
ORGANIZER;CN="Red%20Stone%20Runners%20Club":MAILTO:hiralal@gmail.com
GEO:12.9507432;77.5847773
X-APPLE-STRUCTURED-LOCATION;VALUE=URI;X-ADDRESS=Lalbagh Lalbagh Bengaulru 560027 India;X-APPLE-RADIUS=500;X-TITLE=Lalbagh:geo:77.5847773,12.9507432
END:VEVENT
BEGIN:VEVENT
DTSTART;TZID=America/Chicago:20240403T053000
DTEND;TZID=America/Chicago:20240403T080000
DTSTAMP:20260421T155531
CREATED:20221225T054242Z
LAST-MODIFIED:20230215T042654Z
UID:10000490-1712122200-1712131200@staging5.runtra.com
SUMMARY:Lalbagh Daily Morning Run
DESCRIPTION:Meet at Lalbagh entrance daily (Tu-Thu) at 6:00 AM for a 5KM to 10KM run.
URL:https://staging5.runtra.com/event/lalbagh-daily-morning-run/2024-04-03/
LOCATION:Lalbagh\, Lalbagh\, Bengaulru\, 560027\, India
CATEGORIES:Long Run
ATTACH;FMTTYPE=image/jpeg:https://staging5.runtra.com/wp-content/uploads/2022/12/20190723-running.jpg
ORGANIZER;CN="Red%20Stone%20Runners%20Club":MAILTO:hiralal@gmail.com
GEO:12.9507432;77.5847773
X-APPLE-STRUCTURED-LOCATION;VALUE=URI;X-ADDRESS=Lalbagh Lalbagh Bengaulru 560027 India;X-APPLE-RADIUS=500;X-TITLE=Lalbagh:geo:77.5847773,12.9507432
END:VEVENT
BEGIN:VEVENT
DTSTART;TZID=America/Chicago:20240404T053000
DTEND;TZID=America/Chicago:20240404T080000
DTSTAMP:20260421T155531
CREATED:20221225T054242Z
LAST-MODIFIED:20230215T042654Z
UID:10000491-1712208600-1712217600@staging5.runtra.com
SUMMARY:Lalbagh Daily Morning Run
DESCRIPTION:Meet at Lalbagh entrance daily (Tu-Thu) at 6:00 AM for a 5KM to 10KM run.
URL:https://staging5.runtra.com/event/lalbagh-daily-morning-run/2024-04-04/
LOCATION:Lalbagh\, Lalbagh\, Bengaulru\, 560027\, India
CATEGORIES:Long Run
ATTACH;FMTTYPE=image/jpeg:https://staging5.runtra.com/wp-content/uploads/2022/12/20190723-running.jpg
ORGANIZER;CN="Red%20Stone%20Runners%20Club":MAILTO:hiralal@gmail.com
GEO:12.9507432;77.5847773
X-APPLE-STRUCTURED-LOCATION;VALUE=URI;X-ADDRESS=Lalbagh Lalbagh Bengaulru 560027 India;X-APPLE-RADIUS=500;X-TITLE=Lalbagh:geo:77.5847773,12.9507432
END:VEVENT
BEGIN:VEVENT
DTSTART;TZID=America/Chicago:20240409T053000
DTEND;TZID=America/Chicago:20240409T080000
DTSTAMP:20260421T155531
CREATED:20221225T054242Z
LAST-MODIFIED:20230215T042654Z
UID:10000492-1712640600-1712649600@staging5.runtra.com
SUMMARY:Lalbagh Daily Morning Run
DESCRIPTION:Meet at Lalbagh entrance daily (Tu-Thu) at 6:00 AM for a 5KM to 10KM run.
URL:https://staging5.runtra.com/event/lalbagh-daily-morning-run/2024-04-09/
LOCATION:Lalbagh\, Lalbagh\, Bengaulru\, 560027\, India
CATEGORIES:Long Run
ATTACH;FMTTYPE=image/jpeg:https://staging5.runtra.com/wp-content/uploads/2022/12/20190723-running.jpg
ORGANIZER;CN="Red%20Stone%20Runners%20Club":MAILTO:hiralal@gmail.com
GEO:12.9507432;77.5847773
X-APPLE-STRUCTURED-LOCATION;VALUE=URI;X-ADDRESS=Lalbagh Lalbagh Bengaulru 560027 India;X-APPLE-RADIUS=500;X-TITLE=Lalbagh:geo:77.5847773,12.9507432
END:VEVENT
BEGIN:VEVENT
DTSTART;TZID=America/Chicago:20240410T053000
DTEND;TZID=America/Chicago:20240410T080000
DTSTAMP:20260421T155531
CREATED:20221225T054242Z
LAST-MODIFIED:20230215T042654Z
UID:10000493-1712727000-1712736000@staging5.runtra.com
SUMMARY:Lalbagh Daily Morning Run
DESCRIPTION:Meet at Lalbagh entrance daily (Tu-Thu) at 6:00 AM for a 5KM to 10KM run.
URL:https://staging5.runtra.com/event/lalbagh-daily-morning-run/2024-04-10/
LOCATION:Lalbagh\, Lalbagh\, Bengaulru\, 560027\, India
CATEGORIES:Long Run
ATTACH;FMTTYPE=image/jpeg:https://staging5.runtra.com/wp-content/uploads/2022/12/20190723-running.jpg
ORGANIZER;CN="Red%20Stone%20Runners%20Club":MAILTO:hiralal@gmail.com
GEO:12.9507432;77.5847773
X-APPLE-STRUCTURED-LOCATION;VALUE=URI;X-ADDRESS=Lalbagh Lalbagh Bengaulru 560027 India;X-APPLE-RADIUS=500;X-TITLE=Lalbagh:geo:77.5847773,12.9507432
END:VEVENT
BEGIN:VEVENT
DTSTART;TZID=America/Chicago:20240411T053000
DTEND;TZID=America/Chicago:20240411T080000
DTSTAMP:20260421T155531
CREATED:20221225T054242Z
LAST-MODIFIED:20230215T042654Z
UID:10000494-1712813400-1712822400@staging5.runtra.com
SUMMARY:Lalbagh Daily Morning Run
DESCRIPTION:Meet at Lalbagh entrance daily (Tu-Thu) at 6:00 AM for a 5KM to 10KM run.
URL:https://staging5.runtra.com/event/lalbagh-daily-morning-run/2024-04-11/
LOCATION:Lalbagh\, Lalbagh\, Bengaulru\, 560027\, India
CATEGORIES:Long Run
ATTACH;FMTTYPE=image/jpeg:https://staging5.runtra.com/wp-content/uploads/2022/12/20190723-running.jpg
ORGANIZER;CN="Red%20Stone%20Runners%20Club":MAILTO:hiralal@gmail.com
GEO:12.9507432;77.5847773
X-APPLE-STRUCTURED-LOCATION;VALUE=URI;X-ADDRESS=Lalbagh Lalbagh Bengaulru 560027 India;X-APPLE-RADIUS=500;X-TITLE=Lalbagh:geo:77.5847773,12.9507432
END:VEVENT
BEGIN:VEVENT
DTSTART;TZID=America/Chicago:20240416T053000
DTEND;TZID=America/Chicago:20240416T080000
DTSTAMP:20260421T155531
CREATED:20221225T054242Z
LAST-MODIFIED:20230215T042654Z
UID:10000495-1713245400-1713254400@staging5.runtra.com
SUMMARY:Lalbagh Daily Morning Run
DESCRIPTION:Meet at Lalbagh entrance daily (Tu-Thu) at 6:00 AM for a 5KM to 10KM run.
URL:https://staging5.runtra.com/event/lalbagh-daily-morning-run/2024-04-16/
LOCATION:Lalbagh\, Lalbagh\, Bengaulru\, 560027\, India
CATEGORIES:Long Run
ATTACH;FMTTYPE=image/jpeg:https://staging5.runtra.com/wp-content/uploads/2022/12/20190723-running.jpg
ORGANIZER;CN="Red%20Stone%20Runners%20Club":MAILTO:hiralal@gmail.com
GEO:12.9507432;77.5847773
X-APPLE-STRUCTURED-LOCATION;VALUE=URI;X-ADDRESS=Lalbagh Lalbagh Bengaulru 560027 India;X-APPLE-RADIUS=500;X-TITLE=Lalbagh:geo:77.5847773,12.9507432
END:VEVENT
BEGIN:VEVENT
DTSTART;TZID=America/Chicago:20240417T053000
DTEND;TZID=America/Chicago:20240417T080000
DTSTAMP:20260421T155531
CREATED:20221225T054242Z
LAST-MODIFIED:20230215T042654Z
UID:10000496-1713331800-1713340800@staging5.runtra.com
SUMMARY:Lalbagh Daily Morning Run
DESCRIPTION:Meet at Lalbagh entrance daily (Tu-Thu) at 6:00 AM for a 5KM to 10KM run.
URL:https://staging5.runtra.com/event/lalbagh-daily-morning-run/2024-04-17/
LOCATION:Lalbagh\, Lalbagh\, Bengaulru\, 560027\, India
CATEGORIES:Long Run
ATTACH;FMTTYPE=image/jpeg:https://staging5.runtra.com/wp-content/uploads/2022/12/20190723-running.jpg
ORGANIZER;CN="Red%20Stone%20Runners%20Club":MAILTO:hiralal@gmail.com
GEO:12.9507432;77.5847773
X-APPLE-STRUCTURED-LOCATION;VALUE=URI;X-ADDRESS=Lalbagh Lalbagh Bengaulru 560027 India;X-APPLE-RADIUS=500;X-TITLE=Lalbagh:geo:77.5847773,12.9507432
END:VEVENT
BEGIN:VEVENT
DTSTART;TZID=America/Chicago:20240418T053000
DTEND;TZID=America/Chicago:20240418T080000
DTSTAMP:20260421T155531
CREATED:20221225T054242Z
LAST-MODIFIED:20230215T042654Z
UID:10000497-1713418200-1713427200@staging5.runtra.com
SUMMARY:Lalbagh Daily Morning Run
DESCRIPTION:Meet at Lalbagh entrance daily (Tu-Thu) at 6:00 AM for a 5KM to 10KM run.
URL:https://staging5.runtra.com/event/lalbagh-daily-morning-run/2024-04-18/
LOCATION:Lalbagh\, Lalbagh\, Bengaulru\, 560027\, India
CATEGORIES:Long Run
ATTACH;FMTTYPE=image/jpeg:https://staging5.runtra.com/wp-content/uploads/2022/12/20190723-running.jpg
ORGANIZER;CN="Red%20Stone%20Runners%20Club":MAILTO:hiralal@gmail.com
GEO:12.9507432;77.5847773
X-APPLE-STRUCTURED-LOCATION;VALUE=URI;X-ADDRESS=Lalbagh Lalbagh Bengaulru 560027 India;X-APPLE-RADIUS=500;X-TITLE=Lalbagh:geo:77.5847773,12.9507432
END:VEVENT
BEGIN:VEVENT
DTSTART;TZID=America/Chicago:20240423T053000
DTEND;TZID=America/Chicago:20240423T080000
DTSTAMP:20260421T155531
CREATED:20221225T054242Z
LAST-MODIFIED:20230215T042654Z
UID:10000498-1713850200-1713859200@staging5.runtra.com
SUMMARY:Lalbagh Daily Morning Run
DESCRIPTION:Meet at Lalbagh entrance daily (Tu-Thu) at 6:00 AM for a 5KM to 10KM run.
URL:https://staging5.runtra.com/event/lalbagh-daily-morning-run/2024-04-23/
LOCATION:Lalbagh\, Lalbagh\, Bengaulru\, 560027\, India
CATEGORIES:Long Run
ATTACH;FMTTYPE=image/jpeg:https://staging5.runtra.com/wp-content/uploads/2022/12/20190723-running.jpg
ORGANIZER;CN="Red%20Stone%20Runners%20Club":MAILTO:hiralal@gmail.com
GEO:12.9507432;77.5847773
X-APPLE-STRUCTURED-LOCATION;VALUE=URI;X-ADDRESS=Lalbagh Lalbagh Bengaulru 560027 India;X-APPLE-RADIUS=500;X-TITLE=Lalbagh:geo:77.5847773,12.9507432
END:VEVENT
BEGIN:VEVENT
DTSTART;TZID=America/Chicago:20240424T053000
DTEND;TZID=America/Chicago:20240424T080000
DTSTAMP:20260421T155531
CREATED:20221225T054242Z
LAST-MODIFIED:20230215T042654Z
UID:10000499-1713936600-1713945600@staging5.runtra.com
SUMMARY:Lalbagh Daily Morning Run
DESCRIPTION:Meet at Lalbagh entrance daily (Tu-Thu) at 6:00 AM for a 5KM to 10KM run.
URL:https://staging5.runtra.com/event/lalbagh-daily-morning-run/2024-04-24/
LOCATION:Lalbagh\, Lalbagh\, Bengaulru\, 560027\, India
CATEGORIES:Long Run
ATTACH;FMTTYPE=image/jpeg:https://staging5.runtra.com/wp-content/uploads/2022/12/20190723-running.jpg
ORGANIZER;CN="Red%20Stone%20Runners%20Club":MAILTO:hiralal@gmail.com
GEO:12.9507432;77.5847773
X-APPLE-STRUCTURED-LOCATION;VALUE=URI;X-ADDRESS=Lalbagh Lalbagh Bengaulru 560027 India;X-APPLE-RADIUS=500;X-TITLE=Lalbagh:geo:77.5847773,12.9507432
END:VEVENT
BEGIN:VEVENT
DTSTART;TZID=America/Chicago:20240425T053000
DTEND;TZID=America/Chicago:20240425T080000
DTSTAMP:20260421T155531
CREATED:20221225T054242Z
LAST-MODIFIED:20230215T042654Z
UID:10000500-1714023000-1714032000@staging5.runtra.com
SUMMARY:Lalbagh Daily Morning Run
DESCRIPTION:Meet at Lalbagh entrance daily (Tu-Thu) at 6:00 AM for a 5KM to 10KM run.
URL:https://staging5.runtra.com/event/lalbagh-daily-morning-run/2024-04-25/
LOCATION:Lalbagh\, Lalbagh\, Bengaulru\, 560027\, India
CATEGORIES:Long Run
ATTACH;FMTTYPE=image/jpeg:https://staging5.runtra.com/wp-content/uploads/2022/12/20190723-running.jpg
ORGANIZER;CN="Red%20Stone%20Runners%20Club":MAILTO:hiralal@gmail.com
GEO:12.9507432;77.5847773
X-APPLE-STRUCTURED-LOCATION;VALUE=URI;X-ADDRESS=Lalbagh Lalbagh Bengaulru 560027 India;X-APPLE-RADIUS=500;X-TITLE=Lalbagh:geo:77.5847773,12.9507432
END:VEVENT
BEGIN:VEVENT
DTSTART;TZID=America/Chicago:20240430T053000
DTEND;TZID=America/Chicago:20240430T080000
DTSTAMP:20260421T155531
CREATED:20221225T054242Z
LAST-MODIFIED:20230215T042654Z
UID:10000501-1714455000-1714464000@staging5.runtra.com
SUMMARY:Lalbagh Daily Morning Run
DESCRIPTION:Meet at Lalbagh entrance daily (Tu-Thu) at 6:00 AM for a 5KM to 10KM run.
URL:https://staging5.runtra.com/event/lalbagh-daily-morning-run/2024-04-30/
LOCATION:Lalbagh\, Lalbagh\, Bengaulru\, 560027\, India
CATEGORIES:Long Run
ATTACH;FMTTYPE=image/jpeg:https://staging5.runtra.com/wp-content/uploads/2022/12/20190723-running.jpg
ORGANIZER;CN="Red%20Stone%20Runners%20Club":MAILTO:hiralal@gmail.com
GEO:12.9507432;77.5847773
X-APPLE-STRUCTURED-LOCATION;VALUE=URI;X-ADDRESS=Lalbagh Lalbagh Bengaulru 560027 India;X-APPLE-RADIUS=500;X-TITLE=Lalbagh:geo:77.5847773,12.9507432
END:VEVENT
END:VCALENDAR