BEGIN:VCALENDAR
VERSION:2.0
PRODID:-//Runtra - ECPv6.0.8//NONSGML v1.0//EN
CALSCALE:GREGORIAN
METHOD:PUBLISH
X-WR-CALNAME:Runtra
X-ORIGINAL-URL:https://staging5.runtra.com
X-WR-CALDESC:Events for Runtra
REFRESH-INTERVAL;VALUE=DURATION:PT1H
X-Robots-Tag:noindex
X-PUBLISHED-TTL:PT1H
BEGIN:VTIMEZONE
TZID:America/Chicago
BEGIN:DAYLIGHT
TZOFFSETFROM:-0600
TZOFFSETTO:-0500
TZNAME:CDT
DTSTART:20230312T080000
END:DAYLIGHT
BEGIN:STANDARD
TZOFFSETFROM:-0500
TZOFFSETTO:-0600
TZNAME:CST
DTSTART:20231105T070000
END:STANDARD
END:VTIMEZONE
BEGIN:VEVENT
DTSTART;TZID=America/Chicago:20230926T053000
DTEND;TZID=America/Chicago:20230926T080000
DTSTAMP:20260422T170924
CREATED:20221225T054242Z
LAST-MODIFIED:20230215T042654Z
UID:10000408-1695706200-1695715200@staging5.runtra.com
SUMMARY:Lalbagh Daily Morning Run
DESCRIPTION:Meet at Lalbagh entrance daily (Tu-Thu) at 6:00 AM for a 5KM to 10KM run.
URL:https://staging5.runtra.com/event/lalbagh-daily-morning-run/2023-09-26/
LOCATION:Lalbagh\, Lalbagh\, Bengaulru\, 560027\, India
CATEGORIES:Long Run
ATTACH;FMTTYPE=image/jpeg:https://staging5.runtra.com/wp-content/uploads/2022/12/20190723-running.jpg
ORGANIZER;CN="Red%20Stone%20Runners%20Club":MAILTO:hiralal@gmail.com
GEO:12.9507432;77.5847773
X-APPLE-STRUCTURED-LOCATION;VALUE=URI;X-ADDRESS=Lalbagh Lalbagh Bengaulru 560027 India;X-APPLE-RADIUS=500;X-TITLE=Lalbagh:geo:77.5847773,12.9507432
END:VEVENT
BEGIN:VEVENT
DTSTART;TZID=America/Chicago:20230927T053000
DTEND;TZID=America/Chicago:20230927T080000
DTSTAMP:20260422T170924
CREATED:20221225T054242Z
LAST-MODIFIED:20230215T042654Z
UID:10000409-1695792600-1695801600@staging5.runtra.com
SUMMARY:Lalbagh Daily Morning Run
DESCRIPTION:Meet at Lalbagh entrance daily (Tu-Thu) at 6:00 AM for a 5KM to 10KM run.
URL:https://staging5.runtra.com/event/lalbagh-daily-morning-run/2023-09-27/
LOCATION:Lalbagh\, Lalbagh\, Bengaulru\, 560027\, India
CATEGORIES:Long Run
ATTACH;FMTTYPE=image/jpeg:https://staging5.runtra.com/wp-content/uploads/2022/12/20190723-running.jpg
ORGANIZER;CN="Red%20Stone%20Runners%20Club":MAILTO:hiralal@gmail.com
GEO:12.9507432;77.5847773
X-APPLE-STRUCTURED-LOCATION;VALUE=URI;X-ADDRESS=Lalbagh Lalbagh Bengaulru 560027 India;X-APPLE-RADIUS=500;X-TITLE=Lalbagh:geo:77.5847773,12.9507432
END:VEVENT
BEGIN:VEVENT
DTSTART;TZID=America/Chicago:20230928T053000
DTEND;TZID=America/Chicago:20230928T080000
DTSTAMP:20260422T170924
CREATED:20221225T054242Z
LAST-MODIFIED:20230215T042654Z
UID:10000410-1695879000-1695888000@staging5.runtra.com
SUMMARY:Lalbagh Daily Morning Run
DESCRIPTION:Meet at Lalbagh entrance daily (Tu-Thu) at 6:00 AM for a 5KM to 10KM run.
URL:https://staging5.runtra.com/event/lalbagh-daily-morning-run/2023-09-28/
LOCATION:Lalbagh\, Lalbagh\, Bengaulru\, 560027\, India
CATEGORIES:Long Run
ATTACH;FMTTYPE=image/jpeg:https://staging5.runtra.com/wp-content/uploads/2022/12/20190723-running.jpg
ORGANIZER;CN="Red%20Stone%20Runners%20Club":MAILTO:hiralal@gmail.com
GEO:12.9507432;77.5847773
X-APPLE-STRUCTURED-LOCATION;VALUE=URI;X-ADDRESS=Lalbagh Lalbagh Bengaulru 560027 India;X-APPLE-RADIUS=500;X-TITLE=Lalbagh:geo:77.5847773,12.9507432
END:VEVENT
BEGIN:VEVENT
DTSTART;TZID=America/Chicago:20231003T053000
DTEND;TZID=America/Chicago:20231003T080000
DTSTAMP:20260422T170924
CREATED:20221225T054242Z
LAST-MODIFIED:20230215T042654Z
UID:10000411-1696311000-1696320000@staging5.runtra.com
SUMMARY:Lalbagh Daily Morning Run
DESCRIPTION:Meet at Lalbagh entrance daily (Tu-Thu) at 6:00 AM for a 5KM to 10KM run.
URL:https://staging5.runtra.com/event/lalbagh-daily-morning-run/2023-10-03/
LOCATION:Lalbagh\, Lalbagh\, Bengaulru\, 560027\, India
CATEGORIES:Long Run
ATTACH;FMTTYPE=image/jpeg:https://staging5.runtra.com/wp-content/uploads/2022/12/20190723-running.jpg
ORGANIZER;CN="Red%20Stone%20Runners%20Club":MAILTO:hiralal@gmail.com
GEO:12.9507432;77.5847773
X-APPLE-STRUCTURED-LOCATION;VALUE=URI;X-ADDRESS=Lalbagh Lalbagh Bengaulru 560027 India;X-APPLE-RADIUS=500;X-TITLE=Lalbagh:geo:77.5847773,12.9507432
END:VEVENT
BEGIN:VEVENT
DTSTART;TZID=America/Chicago:20231004T053000
DTEND;TZID=America/Chicago:20231004T080000
DTSTAMP:20260422T170924
CREATED:20221225T054242Z
LAST-MODIFIED:20230215T042654Z
UID:10000412-1696397400-1696406400@staging5.runtra.com
SUMMARY:Lalbagh Daily Morning Run
DESCRIPTION:Meet at Lalbagh entrance daily (Tu-Thu) at 6:00 AM for a 5KM to 10KM run.
URL:https://staging5.runtra.com/event/lalbagh-daily-morning-run/2023-10-04/
LOCATION:Lalbagh\, Lalbagh\, Bengaulru\, 560027\, India
CATEGORIES:Long Run
ATTACH;FMTTYPE=image/jpeg:https://staging5.runtra.com/wp-content/uploads/2022/12/20190723-running.jpg
ORGANIZER;CN="Red%20Stone%20Runners%20Club":MAILTO:hiralal@gmail.com
GEO:12.9507432;77.5847773
X-APPLE-STRUCTURED-LOCATION;VALUE=URI;X-ADDRESS=Lalbagh Lalbagh Bengaulru 560027 India;X-APPLE-RADIUS=500;X-TITLE=Lalbagh:geo:77.5847773,12.9507432
END:VEVENT
BEGIN:VEVENT
DTSTART;TZID=America/Chicago:20231005T053000
DTEND;TZID=America/Chicago:20231005T080000
DTSTAMP:20260422T170924
CREATED:20221225T054242Z
LAST-MODIFIED:20230215T042654Z
UID:10000413-1696483800-1696492800@staging5.runtra.com
SUMMARY:Lalbagh Daily Morning Run
DESCRIPTION:Meet at Lalbagh entrance daily (Tu-Thu) at 6:00 AM for a 5KM to 10KM run.
URL:https://staging5.runtra.com/event/lalbagh-daily-morning-run/2023-10-05/
LOCATION:Lalbagh\, Lalbagh\, Bengaulru\, 560027\, India
CATEGORIES:Long Run
ATTACH;FMTTYPE=image/jpeg:https://staging5.runtra.com/wp-content/uploads/2022/12/20190723-running.jpg
ORGANIZER;CN="Red%20Stone%20Runners%20Club":MAILTO:hiralal@gmail.com
GEO:12.9507432;77.5847773
X-APPLE-STRUCTURED-LOCATION;VALUE=URI;X-ADDRESS=Lalbagh Lalbagh Bengaulru 560027 India;X-APPLE-RADIUS=500;X-TITLE=Lalbagh:geo:77.5847773,12.9507432
END:VEVENT
BEGIN:VEVENT
DTSTART;TZID=America/Chicago:20231010T053000
DTEND;TZID=America/Chicago:20231010T080000
DTSTAMP:20260422T170924
CREATED:20221225T054242Z
LAST-MODIFIED:20230215T042654Z
UID:10000414-1696915800-1696924800@staging5.runtra.com
SUMMARY:Lalbagh Daily Morning Run
DESCRIPTION:Meet at Lalbagh entrance daily (Tu-Thu) at 6:00 AM for a 5KM to 10KM run.
URL:https://staging5.runtra.com/event/lalbagh-daily-morning-run/2023-10-10/
LOCATION:Lalbagh\, Lalbagh\, Bengaulru\, 560027\, India
CATEGORIES:Long Run
ATTACH;FMTTYPE=image/jpeg:https://staging5.runtra.com/wp-content/uploads/2022/12/20190723-running.jpg
ORGANIZER;CN="Red%20Stone%20Runners%20Club":MAILTO:hiralal@gmail.com
GEO:12.9507432;77.5847773
X-APPLE-STRUCTURED-LOCATION;VALUE=URI;X-ADDRESS=Lalbagh Lalbagh Bengaulru 560027 India;X-APPLE-RADIUS=500;X-TITLE=Lalbagh:geo:77.5847773,12.9507432
END:VEVENT
BEGIN:VEVENT
DTSTART;TZID=America/Chicago:20231011T053000
DTEND;TZID=America/Chicago:20231011T080000
DTSTAMP:20260422T170924
CREATED:20221225T054242Z
LAST-MODIFIED:20230215T042654Z
UID:10000415-1697002200-1697011200@staging5.runtra.com
SUMMARY:Lalbagh Daily Morning Run
DESCRIPTION:Meet at Lalbagh entrance daily (Tu-Thu) at 6:00 AM for a 5KM to 10KM run.
URL:https://staging5.runtra.com/event/lalbagh-daily-morning-run/2023-10-11/
LOCATION:Lalbagh\, Lalbagh\, Bengaulru\, 560027\, India
CATEGORIES:Long Run
ATTACH;FMTTYPE=image/jpeg:https://staging5.runtra.com/wp-content/uploads/2022/12/20190723-running.jpg
ORGANIZER;CN="Red%20Stone%20Runners%20Club":MAILTO:hiralal@gmail.com
GEO:12.9507432;77.5847773
X-APPLE-STRUCTURED-LOCATION;VALUE=URI;X-ADDRESS=Lalbagh Lalbagh Bengaulru 560027 India;X-APPLE-RADIUS=500;X-TITLE=Lalbagh:geo:77.5847773,12.9507432
END:VEVENT
BEGIN:VEVENT
DTSTART;TZID=America/Chicago:20231012T053000
DTEND;TZID=America/Chicago:20231012T080000
DTSTAMP:20260422T170924
CREATED:20221225T054242Z
LAST-MODIFIED:20230215T042654Z
UID:10000416-1697088600-1697097600@staging5.runtra.com
SUMMARY:Lalbagh Daily Morning Run
DESCRIPTION:Meet at Lalbagh entrance daily (Tu-Thu) at 6:00 AM for a 5KM to 10KM run.
URL:https://staging5.runtra.com/event/lalbagh-daily-morning-run/2023-10-12/
LOCATION:Lalbagh\, Lalbagh\, Bengaulru\, 560027\, India
CATEGORIES:Long Run
ATTACH;FMTTYPE=image/jpeg:https://staging5.runtra.com/wp-content/uploads/2022/12/20190723-running.jpg
ORGANIZER;CN="Red%20Stone%20Runners%20Club":MAILTO:hiralal@gmail.com
GEO:12.9507432;77.5847773
X-APPLE-STRUCTURED-LOCATION;VALUE=URI;X-ADDRESS=Lalbagh Lalbagh Bengaulru 560027 India;X-APPLE-RADIUS=500;X-TITLE=Lalbagh:geo:77.5847773,12.9507432
END:VEVENT
BEGIN:VEVENT
DTSTART;TZID=America/Chicago:20231017T053000
DTEND;TZID=America/Chicago:20231017T080000
DTSTAMP:20260422T170924
CREATED:20221225T054242Z
LAST-MODIFIED:20230215T042654Z
UID:10000417-1697520600-1697529600@staging5.runtra.com
SUMMARY:Lalbagh Daily Morning Run
DESCRIPTION:Meet at Lalbagh entrance daily (Tu-Thu) at 6:00 AM for a 5KM to 10KM run.
URL:https://staging5.runtra.com/event/lalbagh-daily-morning-run/2023-10-17/
LOCATION:Lalbagh\, Lalbagh\, Bengaulru\, 560027\, India
CATEGORIES:Long Run
ATTACH;FMTTYPE=image/jpeg:https://staging5.runtra.com/wp-content/uploads/2022/12/20190723-running.jpg
ORGANIZER;CN="Red%20Stone%20Runners%20Club":MAILTO:hiralal@gmail.com
GEO:12.9507432;77.5847773
X-APPLE-STRUCTURED-LOCATION;VALUE=URI;X-ADDRESS=Lalbagh Lalbagh Bengaulru 560027 India;X-APPLE-RADIUS=500;X-TITLE=Lalbagh:geo:77.5847773,12.9507432
END:VEVENT
BEGIN:VEVENT
DTSTART;TZID=America/Chicago:20231018T053000
DTEND;TZID=America/Chicago:20231018T080000
DTSTAMP:20260422T170924
CREATED:20221225T054242Z
LAST-MODIFIED:20230215T042654Z
UID:10000418-1697607000-1697616000@staging5.runtra.com
SUMMARY:Lalbagh Daily Morning Run
DESCRIPTION:Meet at Lalbagh entrance daily (Tu-Thu) at 6:00 AM for a 5KM to 10KM run.
URL:https://staging5.runtra.com/event/lalbagh-daily-morning-run/2023-10-18/
LOCATION:Lalbagh\, Lalbagh\, Bengaulru\, 560027\, India
CATEGORIES:Long Run
ATTACH;FMTTYPE=image/jpeg:https://staging5.runtra.com/wp-content/uploads/2022/12/20190723-running.jpg
ORGANIZER;CN="Red%20Stone%20Runners%20Club":MAILTO:hiralal@gmail.com
GEO:12.9507432;77.5847773
X-APPLE-STRUCTURED-LOCATION;VALUE=URI;X-ADDRESS=Lalbagh Lalbagh Bengaulru 560027 India;X-APPLE-RADIUS=500;X-TITLE=Lalbagh:geo:77.5847773,12.9507432
END:VEVENT
BEGIN:VEVENT
DTSTART;TZID=America/Chicago:20231019T053000
DTEND;TZID=America/Chicago:20231019T080000
DTSTAMP:20260422T170924
CREATED:20221225T054242Z
LAST-MODIFIED:20230215T042654Z
UID:10000419-1697693400-1697702400@staging5.runtra.com
SUMMARY:Lalbagh Daily Morning Run
DESCRIPTION:Meet at Lalbagh entrance daily (Tu-Thu) at 6:00 AM for a 5KM to 10KM run.
URL:https://staging5.runtra.com/event/lalbagh-daily-morning-run/2023-10-19/
LOCATION:Lalbagh\, Lalbagh\, Bengaulru\, 560027\, India
CATEGORIES:Long Run
ATTACH;FMTTYPE=image/jpeg:https://staging5.runtra.com/wp-content/uploads/2022/12/20190723-running.jpg
ORGANIZER;CN="Red%20Stone%20Runners%20Club":MAILTO:hiralal@gmail.com
GEO:12.9507432;77.5847773
X-APPLE-STRUCTURED-LOCATION;VALUE=URI;X-ADDRESS=Lalbagh Lalbagh Bengaulru 560027 India;X-APPLE-RADIUS=500;X-TITLE=Lalbagh:geo:77.5847773,12.9507432
END:VEVENT
BEGIN:VEVENT
DTSTART;TZID=America/Chicago:20231024T053000
DTEND;TZID=America/Chicago:20231024T080000
DTSTAMP:20260422T170924
CREATED:20221225T054242Z
LAST-MODIFIED:20230215T042654Z
UID:10000420-1698125400-1698134400@staging5.runtra.com
SUMMARY:Lalbagh Daily Morning Run
DESCRIPTION:Meet at Lalbagh entrance daily (Tu-Thu) at 6:00 AM for a 5KM to 10KM run.
URL:https://staging5.runtra.com/event/lalbagh-daily-morning-run/2023-10-24/
LOCATION:Lalbagh\, Lalbagh\, Bengaulru\, 560027\, India
CATEGORIES:Long Run
ATTACH;FMTTYPE=image/jpeg:https://staging5.runtra.com/wp-content/uploads/2022/12/20190723-running.jpg
ORGANIZER;CN="Red%20Stone%20Runners%20Club":MAILTO:hiralal@gmail.com
GEO:12.9507432;77.5847773
X-APPLE-STRUCTURED-LOCATION;VALUE=URI;X-ADDRESS=Lalbagh Lalbagh Bengaulru 560027 India;X-APPLE-RADIUS=500;X-TITLE=Lalbagh:geo:77.5847773,12.9507432
END:VEVENT
BEGIN:VEVENT
DTSTART;TZID=America/Chicago:20231025T053000
DTEND;TZID=America/Chicago:20231025T080000
DTSTAMP:20260422T170924
CREATED:20221225T054242Z
LAST-MODIFIED:20230215T042654Z
UID:10000421-1698211800-1698220800@staging5.runtra.com
SUMMARY:Lalbagh Daily Morning Run
DESCRIPTION:Meet at Lalbagh entrance daily (Tu-Thu) at 6:00 AM for a 5KM to 10KM run.
URL:https://staging5.runtra.com/event/lalbagh-daily-morning-run/2023-10-25/
LOCATION:Lalbagh\, Lalbagh\, Bengaulru\, 560027\, India
CATEGORIES:Long Run
ATTACH;FMTTYPE=image/jpeg:https://staging5.runtra.com/wp-content/uploads/2022/12/20190723-running.jpg
ORGANIZER;CN="Red%20Stone%20Runners%20Club":MAILTO:hiralal@gmail.com
GEO:12.9507432;77.5847773
X-APPLE-STRUCTURED-LOCATION;VALUE=URI;X-ADDRESS=Lalbagh Lalbagh Bengaulru 560027 India;X-APPLE-RADIUS=500;X-TITLE=Lalbagh:geo:77.5847773,12.9507432
END:VEVENT
BEGIN:VEVENT
DTSTART;TZID=America/Chicago:20231026T053000
DTEND;TZID=America/Chicago:20231026T080000
DTSTAMP:20260422T170924
CREATED:20221225T054242Z
LAST-MODIFIED:20230215T042654Z
UID:10000422-1698298200-1698307200@staging5.runtra.com
SUMMARY:Lalbagh Daily Morning Run
DESCRIPTION:Meet at Lalbagh entrance daily (Tu-Thu) at 6:00 AM for a 5KM to 10KM run.
URL:https://staging5.runtra.com/event/lalbagh-daily-morning-run/2023-10-26/
LOCATION:Lalbagh\, Lalbagh\, Bengaulru\, 560027\, India
CATEGORIES:Long Run
ATTACH;FMTTYPE=image/jpeg:https://staging5.runtra.com/wp-content/uploads/2022/12/20190723-running.jpg
ORGANIZER;CN="Red%20Stone%20Runners%20Club":MAILTO:hiralal@gmail.com
GEO:12.9507432;77.5847773
X-APPLE-STRUCTURED-LOCATION;VALUE=URI;X-ADDRESS=Lalbagh Lalbagh Bengaulru 560027 India;X-APPLE-RADIUS=500;X-TITLE=Lalbagh:geo:77.5847773,12.9507432
END:VEVENT
BEGIN:VEVENT
DTSTART;TZID=America/Chicago:20231031T053000
DTEND;TZID=America/Chicago:20231031T080000
DTSTAMP:20260422T170924
CREATED:20221225T054242Z
LAST-MODIFIED:20230215T042654Z
UID:10000423-1698730200-1698739200@staging5.runtra.com
SUMMARY:Lalbagh Daily Morning Run
DESCRIPTION:Meet at Lalbagh entrance daily (Tu-Thu) at 6:00 AM for a 5KM to 10KM run.
URL:https://staging5.runtra.com/event/lalbagh-daily-morning-run/2023-10-31/
LOCATION:Lalbagh\, Lalbagh\, Bengaulru\, 560027\, India
CATEGORIES:Long Run
ATTACH;FMTTYPE=image/jpeg:https://staging5.runtra.com/wp-content/uploads/2022/12/20190723-running.jpg
ORGANIZER;CN="Red%20Stone%20Runners%20Club":MAILTO:hiralal@gmail.com
GEO:12.9507432;77.5847773
X-APPLE-STRUCTURED-LOCATION;VALUE=URI;X-ADDRESS=Lalbagh Lalbagh Bengaulru 560027 India;X-APPLE-RADIUS=500;X-TITLE=Lalbagh:geo:77.5847773,12.9507432
END:VEVENT
BEGIN:VEVENT
DTSTART;TZID=America/Chicago:20231101T053000
DTEND;TZID=America/Chicago:20231101T080000
DTSTAMP:20260422T170924
CREATED:20221225T054242Z
LAST-MODIFIED:20230215T042654Z
UID:10000424-1698816600-1698825600@staging5.runtra.com
SUMMARY:Lalbagh Daily Morning Run
DESCRIPTION:Meet at Lalbagh entrance daily (Tu-Thu) at 6:00 AM for a 5KM to 10KM run.
URL:https://staging5.runtra.com/event/lalbagh-daily-morning-run/2023-11-01/
LOCATION:Lalbagh\, Lalbagh\, Bengaulru\, 560027\, India
CATEGORIES:Long Run
ATTACH;FMTTYPE=image/jpeg:https://staging5.runtra.com/wp-content/uploads/2022/12/20190723-running.jpg
ORGANIZER;CN="Red%20Stone%20Runners%20Club":MAILTO:hiralal@gmail.com
GEO:12.9507432;77.5847773
X-APPLE-STRUCTURED-LOCATION;VALUE=URI;X-ADDRESS=Lalbagh Lalbagh Bengaulru 560027 India;X-APPLE-RADIUS=500;X-TITLE=Lalbagh:geo:77.5847773,12.9507432
END:VEVENT
BEGIN:VEVENT
DTSTART;TZID=America/Chicago:20231102T053000
DTEND;TZID=America/Chicago:20231102T080000
DTSTAMP:20260422T170924
CREATED:20221225T054242Z
LAST-MODIFIED:20230215T042654Z
UID:10000425-1698903000-1698912000@staging5.runtra.com
SUMMARY:Lalbagh Daily Morning Run
DESCRIPTION:Meet at Lalbagh entrance daily (Tu-Thu) at 6:00 AM for a 5KM to 10KM run.
URL:https://staging5.runtra.com/event/lalbagh-daily-morning-run/2023-11-02/
LOCATION:Lalbagh\, Lalbagh\, Bengaulru\, 560027\, India
CATEGORIES:Long Run
ATTACH;FMTTYPE=image/jpeg:https://staging5.runtra.com/wp-content/uploads/2022/12/20190723-running.jpg
ORGANIZER;CN="Red%20Stone%20Runners%20Club":MAILTO:hiralal@gmail.com
GEO:12.9507432;77.5847773
X-APPLE-STRUCTURED-LOCATION;VALUE=URI;X-ADDRESS=Lalbagh Lalbagh Bengaulru 560027 India;X-APPLE-RADIUS=500;X-TITLE=Lalbagh:geo:77.5847773,12.9507432
END:VEVENT
BEGIN:VEVENT
DTSTART;TZID=America/Chicago:20231107T053000
DTEND;TZID=America/Chicago:20231107T080000
DTSTAMP:20260422T170924
CREATED:20221225T054242Z
LAST-MODIFIED:20230215T042654Z
UID:10000426-1699335000-1699344000@staging5.runtra.com
SUMMARY:Lalbagh Daily Morning Run
DESCRIPTION:Meet at Lalbagh entrance daily (Tu-Thu) at 6:00 AM for a 5KM to 10KM run.
URL:https://staging5.runtra.com/event/lalbagh-daily-morning-run/2023-11-07/
LOCATION:Lalbagh\, Lalbagh\, Bengaulru\, 560027\, India
CATEGORIES:Long Run
ATTACH;FMTTYPE=image/jpeg:https://staging5.runtra.com/wp-content/uploads/2022/12/20190723-running.jpg
ORGANIZER;CN="Red%20Stone%20Runners%20Club":MAILTO:hiralal@gmail.com
GEO:12.9507432;77.5847773
X-APPLE-STRUCTURED-LOCATION;VALUE=URI;X-ADDRESS=Lalbagh Lalbagh Bengaulru 560027 India;X-APPLE-RADIUS=500;X-TITLE=Lalbagh:geo:77.5847773,12.9507432
END:VEVENT
BEGIN:VEVENT
DTSTART;TZID=America/Chicago:20231108T053000
DTEND;TZID=America/Chicago:20231108T080000
DTSTAMP:20260422T170924
CREATED:20221225T054242Z
LAST-MODIFIED:20230215T042654Z
UID:10000427-1699421400-1699430400@staging5.runtra.com
SUMMARY:Lalbagh Daily Morning Run
DESCRIPTION:Meet at Lalbagh entrance daily (Tu-Thu) at 6:00 AM for a 5KM to 10KM run.
URL:https://staging5.runtra.com/event/lalbagh-daily-morning-run/2023-11-08/
LOCATION:Lalbagh\, Lalbagh\, Bengaulru\, 560027\, India
CATEGORIES:Long Run
ATTACH;FMTTYPE=image/jpeg:https://staging5.runtra.com/wp-content/uploads/2022/12/20190723-running.jpg
ORGANIZER;CN="Red%20Stone%20Runners%20Club":MAILTO:hiralal@gmail.com
GEO:12.9507432;77.5847773
X-APPLE-STRUCTURED-LOCATION;VALUE=URI;X-ADDRESS=Lalbagh Lalbagh Bengaulru 560027 India;X-APPLE-RADIUS=500;X-TITLE=Lalbagh:geo:77.5847773,12.9507432
END:VEVENT
BEGIN:VEVENT
DTSTART;TZID=America/Chicago:20231109T053000
DTEND;TZID=America/Chicago:20231109T080000
DTSTAMP:20260422T170924
CREATED:20221225T054242Z
LAST-MODIFIED:20230215T042654Z
UID:10000428-1699507800-1699516800@staging5.runtra.com
SUMMARY:Lalbagh Daily Morning Run
DESCRIPTION:Meet at Lalbagh entrance daily (Tu-Thu) at 6:00 AM for a 5KM to 10KM run.
URL:https://staging5.runtra.com/event/lalbagh-daily-morning-run/2023-11-09/
LOCATION:Lalbagh\, Lalbagh\, Bengaulru\, 560027\, India
CATEGORIES:Long Run
ATTACH;FMTTYPE=image/jpeg:https://staging5.runtra.com/wp-content/uploads/2022/12/20190723-running.jpg
ORGANIZER;CN="Red%20Stone%20Runners%20Club":MAILTO:hiralal@gmail.com
GEO:12.9507432;77.5847773
X-APPLE-STRUCTURED-LOCATION;VALUE=URI;X-ADDRESS=Lalbagh Lalbagh Bengaulru 560027 India;X-APPLE-RADIUS=500;X-TITLE=Lalbagh:geo:77.5847773,12.9507432
END:VEVENT
BEGIN:VEVENT
DTSTART;TZID=America/Chicago:20231114T053000
DTEND;TZID=America/Chicago:20231114T080000
DTSTAMP:20260422T170924
CREATED:20221225T054242Z
LAST-MODIFIED:20230215T042654Z
UID:10000429-1699939800-1699948800@staging5.runtra.com
SUMMARY:Lalbagh Daily Morning Run
DESCRIPTION:Meet at Lalbagh entrance daily (Tu-Thu) at 6:00 AM for a 5KM to 10KM run.
URL:https://staging5.runtra.com/event/lalbagh-daily-morning-run/2023-11-14/
LOCATION:Lalbagh\, Lalbagh\, Bengaulru\, 560027\, India
CATEGORIES:Long Run
ATTACH;FMTTYPE=image/jpeg:https://staging5.runtra.com/wp-content/uploads/2022/12/20190723-running.jpg
ORGANIZER;CN="Red%20Stone%20Runners%20Club":MAILTO:hiralal@gmail.com
GEO:12.9507432;77.5847773
X-APPLE-STRUCTURED-LOCATION;VALUE=URI;X-ADDRESS=Lalbagh Lalbagh Bengaulru 560027 India;X-APPLE-RADIUS=500;X-TITLE=Lalbagh:geo:77.5847773,12.9507432
END:VEVENT
BEGIN:VEVENT
DTSTART;TZID=America/Chicago:20231115T053000
DTEND;TZID=America/Chicago:20231115T080000
DTSTAMP:20260422T170924
CREATED:20221225T054242Z
LAST-MODIFIED:20230215T042654Z
UID:10000430-1700026200-1700035200@staging5.runtra.com
SUMMARY:Lalbagh Daily Morning Run
DESCRIPTION:Meet at Lalbagh entrance daily (Tu-Thu) at 6:00 AM for a 5KM to 10KM run.
URL:https://staging5.runtra.com/event/lalbagh-daily-morning-run/2023-11-15/
LOCATION:Lalbagh\, Lalbagh\, Bengaulru\, 560027\, India
CATEGORIES:Long Run
ATTACH;FMTTYPE=image/jpeg:https://staging5.runtra.com/wp-content/uploads/2022/12/20190723-running.jpg
ORGANIZER;CN="Red%20Stone%20Runners%20Club":MAILTO:hiralal@gmail.com
GEO:12.9507432;77.5847773
X-APPLE-STRUCTURED-LOCATION;VALUE=URI;X-ADDRESS=Lalbagh Lalbagh Bengaulru 560027 India;X-APPLE-RADIUS=500;X-TITLE=Lalbagh:geo:77.5847773,12.9507432
END:VEVENT
BEGIN:VEVENT
DTSTART;TZID=America/Chicago:20231116T053000
DTEND;TZID=America/Chicago:20231116T080000
DTSTAMP:20260422T170924
CREATED:20221225T054242Z
LAST-MODIFIED:20230215T042654Z
UID:10000431-1700112600-1700121600@staging5.runtra.com
SUMMARY:Lalbagh Daily Morning Run
DESCRIPTION:Meet at Lalbagh entrance daily (Tu-Thu) at 6:00 AM for a 5KM to 10KM run.
URL:https://staging5.runtra.com/event/lalbagh-daily-morning-run/2023-11-16/
LOCATION:Lalbagh\, Lalbagh\, Bengaulru\, 560027\, India
CATEGORIES:Long Run
ATTACH;FMTTYPE=image/jpeg:https://staging5.runtra.com/wp-content/uploads/2022/12/20190723-running.jpg
ORGANIZER;CN="Red%20Stone%20Runners%20Club":MAILTO:hiralal@gmail.com
GEO:12.9507432;77.5847773
X-APPLE-STRUCTURED-LOCATION;VALUE=URI;X-ADDRESS=Lalbagh Lalbagh Bengaulru 560027 India;X-APPLE-RADIUS=500;X-TITLE=Lalbagh:geo:77.5847773,12.9507432
END:VEVENT
BEGIN:VEVENT
DTSTART;TZID=America/Chicago:20231121T053000
DTEND;TZID=America/Chicago:20231121T080000
DTSTAMP:20260422T170924
CREATED:20221225T054242Z
LAST-MODIFIED:20230215T042654Z
UID:10000432-1700544600-1700553600@staging5.runtra.com
SUMMARY:Lalbagh Daily Morning Run
DESCRIPTION:Meet at Lalbagh entrance daily (Tu-Thu) at 6:00 AM for a 5KM to 10KM run.
URL:https://staging5.runtra.com/event/lalbagh-daily-morning-run/2023-11-21/
LOCATION:Lalbagh\, Lalbagh\, Bengaulru\, 560027\, India
CATEGORIES:Long Run
ATTACH;FMTTYPE=image/jpeg:https://staging5.runtra.com/wp-content/uploads/2022/12/20190723-running.jpg
ORGANIZER;CN="Red%20Stone%20Runners%20Club":MAILTO:hiralal@gmail.com
GEO:12.9507432;77.5847773
X-APPLE-STRUCTURED-LOCATION;VALUE=URI;X-ADDRESS=Lalbagh Lalbagh Bengaulru 560027 India;X-APPLE-RADIUS=500;X-TITLE=Lalbagh:geo:77.5847773,12.9507432
END:VEVENT
BEGIN:VEVENT
DTSTART;TZID=America/Chicago:20231122T053000
DTEND;TZID=America/Chicago:20231122T080000
DTSTAMP:20260422T170924
CREATED:20221225T054242Z
LAST-MODIFIED:20230215T042654Z
UID:10000433-1700631000-1700640000@staging5.runtra.com
SUMMARY:Lalbagh Daily Morning Run
DESCRIPTION:Meet at Lalbagh entrance daily (Tu-Thu) at 6:00 AM for a 5KM to 10KM run.
URL:https://staging5.runtra.com/event/lalbagh-daily-morning-run/2023-11-22/
LOCATION:Lalbagh\, Lalbagh\, Bengaulru\, 560027\, India
CATEGORIES:Long Run
ATTACH;FMTTYPE=image/jpeg:https://staging5.runtra.com/wp-content/uploads/2022/12/20190723-running.jpg
ORGANIZER;CN="Red%20Stone%20Runners%20Club":MAILTO:hiralal@gmail.com
GEO:12.9507432;77.5847773
X-APPLE-STRUCTURED-LOCATION;VALUE=URI;X-ADDRESS=Lalbagh Lalbagh Bengaulru 560027 India;X-APPLE-RADIUS=500;X-TITLE=Lalbagh:geo:77.5847773,12.9507432
END:VEVENT
BEGIN:VEVENT
DTSTART;TZID=America/Chicago:20231123T053000
DTEND;TZID=America/Chicago:20231123T080000
DTSTAMP:20260422T170924
CREATED:20221225T054242Z
LAST-MODIFIED:20230215T042654Z
UID:10000434-1700717400-1700726400@staging5.runtra.com
SUMMARY:Lalbagh Daily Morning Run
DESCRIPTION:Meet at Lalbagh entrance daily (Tu-Thu) at 6:00 AM for a 5KM to 10KM run.
URL:https://staging5.runtra.com/event/lalbagh-daily-morning-run/2023-11-23/
LOCATION:Lalbagh\, Lalbagh\, Bengaulru\, 560027\, India
CATEGORIES:Long Run
ATTACH;FMTTYPE=image/jpeg:https://staging5.runtra.com/wp-content/uploads/2022/12/20190723-running.jpg
ORGANIZER;CN="Red%20Stone%20Runners%20Club":MAILTO:hiralal@gmail.com
GEO:12.9507432;77.5847773
X-APPLE-STRUCTURED-LOCATION;VALUE=URI;X-ADDRESS=Lalbagh Lalbagh Bengaulru 560027 India;X-APPLE-RADIUS=500;X-TITLE=Lalbagh:geo:77.5847773,12.9507432
END:VEVENT
BEGIN:VEVENT
DTSTART;TZID=America/Chicago:20231128T053000
DTEND;TZID=America/Chicago:20231128T080000
DTSTAMP:20260422T170924
CREATED:20221225T054242Z
LAST-MODIFIED:20230215T042654Z
UID:10000435-1701149400-1701158400@staging5.runtra.com
SUMMARY:Lalbagh Daily Morning Run
DESCRIPTION:Meet at Lalbagh entrance daily (Tu-Thu) at 6:00 AM for a 5KM to 10KM run.
URL:https://staging5.runtra.com/event/lalbagh-daily-morning-run/2023-11-28/
LOCATION:Lalbagh\, Lalbagh\, Bengaulru\, 560027\, India
CATEGORIES:Long Run
ATTACH;FMTTYPE=image/jpeg:https://staging5.runtra.com/wp-content/uploads/2022/12/20190723-running.jpg
ORGANIZER;CN="Red%20Stone%20Runners%20Club":MAILTO:hiralal@gmail.com
GEO:12.9507432;77.5847773
X-APPLE-STRUCTURED-LOCATION;VALUE=URI;X-ADDRESS=Lalbagh Lalbagh Bengaulru 560027 India;X-APPLE-RADIUS=500;X-TITLE=Lalbagh:geo:77.5847773,12.9507432
END:VEVENT
BEGIN:VEVENT
DTSTART;TZID=America/Chicago:20231129T053000
DTEND;TZID=America/Chicago:20231129T080000
DTSTAMP:20260422T170924
CREATED:20221225T054242Z
LAST-MODIFIED:20230215T042654Z
UID:10000436-1701235800-1701244800@staging5.runtra.com
SUMMARY:Lalbagh Daily Morning Run
DESCRIPTION:Meet at Lalbagh entrance daily (Tu-Thu) at 6:00 AM for a 5KM to 10KM run.
URL:https://staging5.runtra.com/event/lalbagh-daily-morning-run/2023-11-29/
LOCATION:Lalbagh\, Lalbagh\, Bengaulru\, 560027\, India
CATEGORIES:Long Run
ATTACH;FMTTYPE=image/jpeg:https://staging5.runtra.com/wp-content/uploads/2022/12/20190723-running.jpg
ORGANIZER;CN="Red%20Stone%20Runners%20Club":MAILTO:hiralal@gmail.com
GEO:12.9507432;77.5847773
X-APPLE-STRUCTURED-LOCATION;VALUE=URI;X-ADDRESS=Lalbagh Lalbagh Bengaulru 560027 India;X-APPLE-RADIUS=500;X-TITLE=Lalbagh:geo:77.5847773,12.9507432
END:VEVENT
BEGIN:VEVENT
DTSTART;TZID=America/Chicago:20231130T053000
DTEND;TZID=America/Chicago:20231130T080000
DTSTAMP:20260422T170924
CREATED:20221225T054242Z
LAST-MODIFIED:20230215T042654Z
UID:10000437-1701322200-1701331200@staging5.runtra.com
SUMMARY:Lalbagh Daily Morning Run
DESCRIPTION:Meet at Lalbagh entrance daily (Tu-Thu) at 6:00 AM for a 5KM to 10KM run.
URL:https://staging5.runtra.com/event/lalbagh-daily-morning-run/2023-11-30/
LOCATION:Lalbagh\, Lalbagh\, Bengaulru\, 560027\, India
CATEGORIES:Long Run
ATTACH;FMTTYPE=image/jpeg:https://staging5.runtra.com/wp-content/uploads/2022/12/20190723-running.jpg
ORGANIZER;CN="Red%20Stone%20Runners%20Club":MAILTO:hiralal@gmail.com
GEO:12.9507432;77.5847773
X-APPLE-STRUCTURED-LOCATION;VALUE=URI;X-ADDRESS=Lalbagh Lalbagh Bengaulru 560027 India;X-APPLE-RADIUS=500;X-TITLE=Lalbagh:geo:77.5847773,12.9507432
END:VEVENT
END:VCALENDAR