BEGIN:VCALENDAR
VERSION:2.0
PRODID:-//Runtra - ECPv6.0.8//NONSGML v1.0//EN
CALSCALE:GREGORIAN
METHOD:PUBLISH
X-ORIGINAL-URL:https://staging5.runtra.com
X-WR-CALDESC:Events for Runtra
REFRESH-INTERVAL;VALUE=DURATION:PT1H
X-Robots-Tag:noindex
X-PUBLISHED-TTL:PT1H
BEGIN:VTIMEZONE
TZID:America/Chicago
BEGIN:DAYLIGHT
TZOFFSETFROM:-0600
TZOFFSETTO:-0500
TZNAME:CDT
DTSTART:20230312T080000
END:DAYLIGHT
BEGIN:STANDARD
TZOFFSETFROM:-0500
TZOFFSETTO:-0600
TZNAME:CST
DTSTART:20231105T070000
END:STANDARD
END:VTIMEZONE
BEGIN:VEVENT
DTSTART;TZID=America/Chicago:20230115T060000
DTEND;TZID=America/Chicago:20230115T070000
DTSTAMP:20260422T175328
CREATED:20230107T033127Z
LAST-MODIFIED:20230107T033127Z
UID:10000278-1673762400-1673766000@staging5.runtra.com
SUMMARY:Raipur River Run
DESCRIPTION:This is a run on Raipur marine drive.
URL:https://staging5.runtra.com/event/raipur-river-run/2023-01-15/
LOCATION:Raipur Marine Drive\, Raipur Marine Drive\, Telibanda\, Raipur\, 49002
CATEGORIES:Short Run
ATTACH;FMTTYPE=image/jpeg:https://staging5.runtra.com/wp-content/uploads/2023/01/26167203_908855435944954_6425181120329259286_n_20190305123458.jpg
ORGANIZER;CN="Amaresh%20Chitrakavi":MAILTO:chitrakavi@gmail.com
GEO:21.2407224;81.6604157
X-APPLE-STRUCTURED-LOCATION;VALUE=URI;X-ADDRESS=Raipur Marine Drive Raipur Marine Drive Telibanda Raipur 49002;X-APPLE-RADIUS=500;X-TITLE=Raipur Marine Drive\, Telibanda:geo:81.6604157,21.2407224
END:VEVENT
BEGIN:VEVENT
DTSTART;TZID=America/Chicago:20230113T063000
DTEND;TZID=America/Chicago:20230113T193000
DTSTAMP:20260422T175328
CREATED:20230108T234943Z
LAST-MODIFIED:20230112T091701Z
UID:10000289-1673591400-1673638200@staging5.runtra.com
SUMMARY:Lodhi Garden Tempo Training
DESCRIPTION:Jois us at the gate of Lodhi Garden for a 6KM Tempo training.
URL:https://staging5.runtra.com/event/lodhi-garden-tempo-training/
LOCATION:Lodhi Garden\, Lodhi Garden\, New Delhi
CATEGORIES:Short Run
ATTACH;FMTTYPE=image/jpeg:https://staging5.runtra.com/wp-content/uploads/2023/01/download.jpg
ORGANIZER;CN="Alpha%20Beta":MAILTO:a.beta@gmail.com
GEO:28.5936814;77.2218338
X-APPLE-STRUCTURED-LOCATION;VALUE=URI;X-ADDRESS=Lodhi Garden Lodhi Garden New Delhi;X-APPLE-RADIUS=500;X-TITLE=Lodhi Garden:geo:77.2218338,28.5936814
END:VEVENT
BEGIN:VEVENT
DTSTART;TZID=America/Chicago:20230108T060000
DTEND;TZID=America/Chicago:20230108T070000
DTSTAMP:20260422T175328
CREATED:20230107T033127Z
LAST-MODIFIED:20230107T033127Z
UID:10000277-1673157600-1673161200@staging5.runtra.com
SUMMARY:Raipur River Run
DESCRIPTION:This is a run on Raipur marine drive.
URL:https://staging5.runtra.com/event/raipur-river-run/2023-01-08/
LOCATION:Raipur Marine Drive\, Raipur Marine Drive\, Telibanda\, Raipur\, 49002
CATEGORIES:Short Run
ATTACH;FMTTYPE=image/jpeg:https://staging5.runtra.com/wp-content/uploads/2023/01/26167203_908855435944954_6425181120329259286_n_20190305123458.jpg
ORGANIZER;CN="Amaresh%20Chitrakavi":MAILTO:chitrakavi@gmail.com
GEO:21.2407224;81.6604157
X-APPLE-STRUCTURED-LOCATION;VALUE=URI;X-ADDRESS=Raipur Marine Drive Raipur Marine Drive Telibanda Raipur 49002;X-APPLE-RADIUS=500;X-TITLE=Raipur Marine Drive\, Telibanda:geo:81.6604157,21.2407224
END:VEVENT
END:VCALENDAR