BEGIN:VCALENDAR
VERSION:2.0
PRODID:-//Runtra - ECPv6.0.8//NONSGML v1.0//EN
CALSCALE:GREGORIAN
METHOD:PUBLISH
X-ORIGINAL-URL:https://staging5.runtra.com
X-WR-CALDESC:Events for Runtra
REFRESH-INTERVAL;VALUE=DURATION:PT1H
X-Robots-Tag:noindex
X-PUBLISHED-TTL:PT1H
BEGIN:VTIMEZONE
TZID:America/Chicago
BEGIN:DAYLIGHT
TZOFFSETFROM:-0600
TZOFFSETTO:-0500
TZNAME:CDT
DTSTART:20240310T080000
END:DAYLIGHT
BEGIN:STANDARD
TZOFFSETFROM:-0500
TZOFFSETTO:-0600
TZNAME:CST
DTSTART:20241103T070000
END:STANDARD
END:VTIMEZONE
BEGIN:VEVENT
DTSTART;TZID=America/Chicago:20240910T053000
DTEND;TZID=America/Chicago:20240910T080000
DTSTAMP:20260421T201647
CREATED:20221225T054242Z
LAST-MODIFIED:20230215T042654Z
UID:10000558-1725946200-1725955200@staging5.runtra.com
SUMMARY:Lalbagh Daily Morning Run
DESCRIPTION:Meet at Lalbagh entrance daily (Tu-Thu) at 6:00 AM for a 5KM to 10KM run.
URL:https://staging5.runtra.com/event/lalbagh-daily-morning-run/2024-09-10/
LOCATION:Lalbagh\, Lalbagh\, Bengaulru\, 560027\, India
CATEGORIES:Long Run
ATTACH;FMTTYPE=image/jpeg:https://staging5.runtra.com/wp-content/uploads/2022/12/20190723-running.jpg
ORGANIZER;CN="Red%20Stone%20Runners%20Club":MAILTO:hiralal@gmail.com
GEO:12.9507432;77.5847773
X-APPLE-STRUCTURED-LOCATION;VALUE=URI;X-ADDRESS=Lalbagh Lalbagh Bengaulru 560027 India;X-APPLE-RADIUS=500;X-TITLE=Lalbagh:geo:77.5847773,12.9507432
END:VEVENT
BEGIN:VEVENT
DTSTART;TZID=America/Chicago:20240911T053000
DTEND;TZID=America/Chicago:20240911T080000
DTSTAMP:20260421T201647
CREATED:20221225T054242Z
LAST-MODIFIED:20230215T042654Z
UID:10000559-1726032600-1726041600@staging5.runtra.com
SUMMARY:Lalbagh Daily Morning Run
DESCRIPTION:Meet at Lalbagh entrance daily (Tu-Thu) at 6:00 AM for a 5KM to 10KM run.
URL:https://staging5.runtra.com/event/lalbagh-daily-morning-run/2024-09-11/
LOCATION:Lalbagh\, Lalbagh\, Bengaulru\, 560027\, India
CATEGORIES:Long Run
ATTACH;FMTTYPE=image/jpeg:https://staging5.runtra.com/wp-content/uploads/2022/12/20190723-running.jpg
ORGANIZER;CN="Red%20Stone%20Runners%20Club":MAILTO:hiralal@gmail.com
GEO:12.9507432;77.5847773
X-APPLE-STRUCTURED-LOCATION;VALUE=URI;X-ADDRESS=Lalbagh Lalbagh Bengaulru 560027 India;X-APPLE-RADIUS=500;X-TITLE=Lalbagh:geo:77.5847773,12.9507432
END:VEVENT
BEGIN:VEVENT
DTSTART;TZID=America/Chicago:20240912T053000
DTEND;TZID=America/Chicago:20240912T080000
DTSTAMP:20260421T201647
CREATED:20221225T054242Z
LAST-MODIFIED:20230215T042654Z
UID:10000560-1726119000-1726128000@staging5.runtra.com
SUMMARY:Lalbagh Daily Morning Run
DESCRIPTION:Meet at Lalbagh entrance daily (Tu-Thu) at 6:00 AM for a 5KM to 10KM run.
URL:https://staging5.runtra.com/event/lalbagh-daily-morning-run/2024-09-12/
LOCATION:Lalbagh\, Lalbagh\, Bengaulru\, 560027\, India
CATEGORIES:Long Run
ATTACH;FMTTYPE=image/jpeg:https://staging5.runtra.com/wp-content/uploads/2022/12/20190723-running.jpg
ORGANIZER;CN="Red%20Stone%20Runners%20Club":MAILTO:hiralal@gmail.com
GEO:12.9507432;77.5847773
X-APPLE-STRUCTURED-LOCATION;VALUE=URI;X-ADDRESS=Lalbagh Lalbagh Bengaulru 560027 India;X-APPLE-RADIUS=500;X-TITLE=Lalbagh:geo:77.5847773,12.9507432
END:VEVENT
END:VCALENDAR