BEGIN:VCALENDAR
VERSION:2.0
PRODID:-//Runtra - ECPv6.0.8//NONSGML v1.0//EN
CALSCALE:GREGORIAN
METHOD:PUBLISH
X-ORIGINAL-URL:https://staging5.runtra.com
X-WR-CALDESC:Events for Runtra
REFRESH-INTERVAL;VALUE=DURATION:PT1H
X-Robots-Tag:noindex
X-PUBLISHED-TTL:PT1H
BEGIN:VTIMEZONE
TZID:America/Chicago
BEGIN:DAYLIGHT
TZOFFSETFROM:-0600
TZOFFSETTO:-0500
TZNAME:CDT
DTSTART:20230312T080000
END:DAYLIGHT
BEGIN:STANDARD
TZOFFSETFROM:-0500
TZOFFSETTO:-0600
TZNAME:CST
DTSTART:20231105T070000
END:STANDARD
END:VTIMEZONE
BEGIN:VEVENT
DTSTART;TZID=America/Chicago:20230121T080000
DTEND;TZID=America/Chicago:20230121T170000
DTSTAMP:20260421T090522
CREATED:20230118T032021Z
LAST-MODIFIED:20230118T032021Z
UID:10000292-1674288000-1674320400@staging5.runtra.com
SUMMARY:Raj Mahal 10K
DESCRIPTION:This organizer's average rating is: 0.0  Blah Blah Blah Blah Blah Blah Blah Blah Blah Blah Blah Blah Blah Blah Blah Blah Blah Blah Blah Blah Blah Blah Blah Blah Blah Blah Blah Blah Blah Blah Blah Blah Blah Blah Blah Blah Blah Blah Blah Blah Blah Blah Blah Blah Blah Blah Blah Blah Blah Blah Blah Blah Blah Blah Blah Blah Blah Blah Blah Blah Blah Blah Blah Blah Blah Blah Blah Blah Blah Blah Blah Blah Blah Blah Blah Blah Blah Blah Blah Blah Blah Blah Blah Blah Blah Blah Blah Blah Blah Blah Blah Blah Blah Blah Blah Blah Blah Blah Blah Blah Blah Blah Blah Blah Blah Blah Blah Blah Blah Blah Blah Blah
URL:https://staging5.runtra.com/event/raj-mahal-10k/
LOCATION:Rajmahal Square\, Rajmahal Square\, Bhubaneswar
ATTACH;FMTTYPE=image/jpeg:https://staging5.runtra.com/wp-content/uploads/2023/01/download-1-1.jpg
ORGANIZER;CN="Alpha%20Beta":MAILTO:a.beta@gmail.com
GEO:20.2617643;85.8365421
X-APPLE-STRUCTURED-LOCATION;VALUE=URI;X-ADDRESS=Rajmahal Square Rajmahal Square Bhubaneswar;X-APPLE-RADIUS=500;X-TITLE=Rajmahal Square:geo:85.8365421,20.2617643
END:VEVENT
BEGIN:VEVENT
DTSTART;TZID=America/Chicago:20230113T063000
DTEND;TZID=America/Chicago:20230113T193000
DTSTAMP:20260421T090522
CREATED:20230108T234943Z
LAST-MODIFIED:20230112T091701Z
UID:10000289-1673591400-1673638200@staging5.runtra.com
SUMMARY:Lodhi Garden Tempo Training
DESCRIPTION:This organizer's average rating is: 0.0  Jois us at the gate of Lodhi Garden for a 6KM Tempo training.
URL:https://staging5.runtra.com/event/lodhi-garden-tempo-training/
LOCATION:Lodhi Garden\, Lodhi Garden\, New Delhi
CATEGORIES:Short Run
ATTACH;FMTTYPE=image/jpeg:https://staging5.runtra.com/wp-content/uploads/2023/01/download.jpg
ORGANIZER;CN="Alpha%20Beta":MAILTO:a.beta@gmail.com
GEO:28.5936814;77.2218338
X-APPLE-STRUCTURED-LOCATION;VALUE=URI;X-ADDRESS=Lodhi Garden Lodhi Garden New Delhi;X-APPLE-RADIUS=500;X-TITLE=Lodhi Garden:geo:77.2218338,28.5936814
END:VEVENT
BEGIN:VEVENT
DTSTART;TZID=America/Chicago:20230112T080000
DTEND;TZID=America/Chicago:20230112T140000
DTSTAMP:20260421T090522
CREATED:20230108T232656Z
LAST-MODIFIED:20230109T001136Z
UID:10000288-1673510400-1673532000@staging5.runtra.com
SUMMARY:Salt Lake Half Marathon
DESCRIPTION:This organizer's average rating is: 0.0  The Kolkata Marathon is a marathon held annually in Kolkata\, West Bengal\, India. It was launched in 2008. The marathon is the largest in Eastern India and the only full marathon held in Kolkata.
URL:https://staging5.runtra.com/event/salt-lake-half-marathon/
LOCATION:Central Park\, Salt Lake\, Kolkata\, Central Park\, Salt Lake\, Kolkata\, India
CATEGORIES:Races
ATTACH;FMTTYPE=image/jpeg:https://staging5.runtra.com/wp-content/uploads/2023/01/tata-steel-kolkata-25k.jpg
ORGANIZER;CN="Alpha%20Beta":MAILTO:a.beta@gmail.com
GEO:22.5867597;88.4149401
X-APPLE-STRUCTURED-LOCATION;VALUE=URI;X-ADDRESS=Central Park Salt Lake Kolkata Central Park Salt Lake Kolkata India;X-APPLE-RADIUS=500;X-TITLE=Central Park\, Salt Lake\, Kolkata:geo:88.4149401,22.5867597
END:VEVENT
END:VCALENDAR