BEGIN:VCALENDAR
VERSION:2.0
PRODID:-//Runtra - ECPv6.0.8//NONSGML v1.0//EN
CALSCALE:GREGORIAN
METHOD:PUBLISH
X-WR-CALNAME:Runtra
X-ORIGINAL-URL:https://staging5.runtra.com
X-WR-CALDESC:Events for Runtra
REFRESH-INTERVAL;VALUE=DURATION:PT1H
X-Robots-Tag:noindex
X-PUBLISHED-TTL:PT1H
BEGIN:VTIMEZONE
TZID:America/Chicago
BEGIN:DAYLIGHT
TZOFFSETFROM:-0600
TZOFFSETTO:-0500
TZNAME:CDT
DTSTART:20230312T080000
END:DAYLIGHT
BEGIN:STANDARD
TZOFFSETFROM:-0500
TZOFFSETTO:-0600
TZNAME:CST
DTSTART:20231105T070000
END:STANDARD
END:VTIMEZONE
BEGIN:VEVENT
DTSTART;TZID=America/Chicago:20230312T060000
DTEND;TZID=America/Chicago:20230312T070000
DTSTAMP:20260421T073729
CREATED:20230107T033127Z
LAST-MODIFIED:20230107T033127Z
UID:10000286-1678600800-1678604400@staging5.runtra.com
SUMMARY:Raipur River Run
DESCRIPTION:This organizer's average rating is: 0.0  This is a run on Raipur marine drive.
URL:https://staging5.runtra.com/event/raipur-river-run/2023-03-12/
LOCATION:Raipur Marine Drive\, Raipur Marine Drive\, Telibanda\, Raipur\, 49002
CATEGORIES:Short Run
ATTACH;FMTTYPE=image/jpeg:https://staging5.runtra.com/wp-content/uploads/2023/01/26167203_908855435944954_6425181120329259286_n_20190305123458.jpg
ORGANIZER;CN="Amaresh%20Chitrakavi":MAILTO:chitrakavi@gmail.com
GEO:21.2407224;81.6604157
X-APPLE-STRUCTURED-LOCATION;VALUE=URI;X-ADDRESS=Raipur Marine Drive Raipur Marine Drive Telibanda Raipur 49002;X-APPLE-RADIUS=500;X-TITLE=Raipur Marine Drive\, Telibanda:geo:81.6604157,21.2407224
END:VEVENT
BEGIN:VEVENT
DTSTART;TZID=America/Chicago:20230305T060000
DTEND;TZID=America/Chicago:20230305T070000
DTSTAMP:20260421T073729
CREATED:20230107T033127Z
LAST-MODIFIED:20230107T033127Z
UID:10000285-1677996000-1677999600@staging5.runtra.com
SUMMARY:Raipur River Run
DESCRIPTION:This organizer's average rating is: 0.0  This is a run on Raipur marine drive.
URL:https://staging5.runtra.com/event/raipur-river-run/2023-03-05/
LOCATION:Raipur Marine Drive\, Raipur Marine Drive\, Telibanda\, Raipur\, 49002
CATEGORIES:Short Run
ATTACH;FMTTYPE=image/jpeg:https://staging5.runtra.com/wp-content/uploads/2023/01/26167203_908855435944954_6425181120329259286_n_20190305123458.jpg
ORGANIZER;CN="Amaresh%20Chitrakavi":MAILTO:chitrakavi@gmail.com
GEO:21.2407224;81.6604157
X-APPLE-STRUCTURED-LOCATION;VALUE=URI;X-ADDRESS=Raipur Marine Drive Raipur Marine Drive Telibanda Raipur 49002;X-APPLE-RADIUS=500;X-TITLE=Raipur Marine Drive\, Telibanda:geo:81.6604157,21.2407224
END:VEVENT
BEGIN:VEVENT
DTSTART;TZID=America/Chicago:20230226T060000
DTEND;TZID=America/Chicago:20230226T070000
DTSTAMP:20260421T073729
CREATED:20230107T033127Z
LAST-MODIFIED:20230107T033127Z
UID:10000284-1677391200-1677394800@staging5.runtra.com
SUMMARY:Raipur River Run
DESCRIPTION:This organizer's average rating is: 0.0  This is a run on Raipur marine drive.
URL:https://staging5.runtra.com/event/raipur-river-run/2023-02-26/
LOCATION:Raipur Marine Drive\, Raipur Marine Drive\, Telibanda\, Raipur\, 49002
CATEGORIES:Short Run
ATTACH;FMTTYPE=image/jpeg:https://staging5.runtra.com/wp-content/uploads/2023/01/26167203_908855435944954_6425181120329259286_n_20190305123458.jpg
ORGANIZER;CN="Amaresh%20Chitrakavi":MAILTO:chitrakavi@gmail.com
GEO:21.2407224;81.6604157
X-APPLE-STRUCTURED-LOCATION;VALUE=URI;X-ADDRESS=Raipur Marine Drive Raipur Marine Drive Telibanda Raipur 49002;X-APPLE-RADIUS=500;X-TITLE=Raipur Marine Drive\, Telibanda:geo:81.6604157,21.2407224
END:VEVENT
BEGIN:VEVENT
DTSTART;TZID=America/Chicago:20230219T060000
DTEND;TZID=America/Chicago:20230219T070000
DTSTAMP:20260421T073729
CREATED:20230107T033127Z
LAST-MODIFIED:20230107T033127Z
UID:10000283-1676786400-1676790000@staging5.runtra.com
SUMMARY:Raipur River Run
DESCRIPTION:This organizer's average rating is: 0.0  This is a run on Raipur marine drive.
URL:https://staging5.runtra.com/event/raipur-river-run/2023-02-19/
LOCATION:Raipur Marine Drive\, Raipur Marine Drive\, Telibanda\, Raipur\, 49002
CATEGORIES:Short Run
ATTACH;FMTTYPE=image/jpeg:https://staging5.runtra.com/wp-content/uploads/2023/01/26167203_908855435944954_6425181120329259286_n_20190305123458.jpg
ORGANIZER;CN="Amaresh%20Chitrakavi":MAILTO:chitrakavi@gmail.com
GEO:21.2407224;81.6604157
X-APPLE-STRUCTURED-LOCATION;VALUE=URI;X-ADDRESS=Raipur Marine Drive Raipur Marine Drive Telibanda Raipur 49002;X-APPLE-RADIUS=500;X-TITLE=Raipur Marine Drive\, Telibanda:geo:81.6604157,21.2407224
END:VEVENT
BEGIN:VEVENT
DTSTART;TZID=America/Chicago:20230212T060000
DTEND;TZID=America/Chicago:20230212T070000
DTSTAMP:20260421T073729
CREATED:20230107T033127Z
LAST-MODIFIED:20230107T033127Z
UID:10000282-1676181600-1676185200@staging5.runtra.com
SUMMARY:Raipur River Run
DESCRIPTION:This organizer's average rating is: 0.0  This is a run on Raipur marine drive.
URL:https://staging5.runtra.com/event/raipur-river-run/2023-02-12/
LOCATION:Raipur Marine Drive\, Raipur Marine Drive\, Telibanda\, Raipur\, 49002
CATEGORIES:Short Run
ATTACH;FMTTYPE=image/jpeg:https://staging5.runtra.com/wp-content/uploads/2023/01/26167203_908855435944954_6425181120329259286_n_20190305123458.jpg
ORGANIZER;CN="Amaresh%20Chitrakavi":MAILTO:chitrakavi@gmail.com
GEO:21.2407224;81.6604157
X-APPLE-STRUCTURED-LOCATION;VALUE=URI;X-ADDRESS=Raipur Marine Drive Raipur Marine Drive Telibanda Raipur 49002;X-APPLE-RADIUS=500;X-TITLE=Raipur Marine Drive\, Telibanda:geo:81.6604157,21.2407224
END:VEVENT
BEGIN:VEVENT
DTSTART;TZID=America/Chicago:20230205T060000
DTEND;TZID=America/Chicago:20230205T070000
DTSTAMP:20260421T073729
CREATED:20230107T033127Z
LAST-MODIFIED:20230107T033127Z
UID:10000281-1675576800-1675580400@staging5.runtra.com
SUMMARY:Raipur River Run
DESCRIPTION:This organizer's average rating is: 0.0  This is a run on Raipur marine drive.
URL:https://staging5.runtra.com/event/raipur-river-run/2023-02-05/
LOCATION:Raipur Marine Drive\, Raipur Marine Drive\, Telibanda\, Raipur\, 49002
CATEGORIES:Short Run
ATTACH;FMTTYPE=image/jpeg:https://staging5.runtra.com/wp-content/uploads/2023/01/26167203_908855435944954_6425181120329259286_n_20190305123458.jpg
ORGANIZER;CN="Amaresh%20Chitrakavi":MAILTO:chitrakavi@gmail.com
GEO:21.2407224;81.6604157
X-APPLE-STRUCTURED-LOCATION;VALUE=URI;X-ADDRESS=Raipur Marine Drive Raipur Marine Drive Telibanda Raipur 49002;X-APPLE-RADIUS=500;X-TITLE=Raipur Marine Drive\, Telibanda:geo:81.6604157,21.2407224
END:VEVENT
BEGIN:VEVENT
DTSTART;TZID=America/Chicago:20230129T060000
DTEND;TZID=America/Chicago:20230129T070000
DTSTAMP:20260421T073729
CREATED:20230107T033127Z
LAST-MODIFIED:20230107T033127Z
UID:10000280-1674972000-1674975600@staging5.runtra.com
SUMMARY:Raipur River Run
DESCRIPTION:This organizer's average rating is: 0.0  This is a run on Raipur marine drive.
URL:https://staging5.runtra.com/event/raipur-river-run/2023-01-29/
LOCATION:Raipur Marine Drive\, Raipur Marine Drive\, Telibanda\, Raipur\, 49002
CATEGORIES:Short Run
ATTACH;FMTTYPE=image/jpeg:https://staging5.runtra.com/wp-content/uploads/2023/01/26167203_908855435944954_6425181120329259286_n_20190305123458.jpg
ORGANIZER;CN="Amaresh%20Chitrakavi":MAILTO:chitrakavi@gmail.com
GEO:21.2407224;81.6604157
X-APPLE-STRUCTURED-LOCATION;VALUE=URI;X-ADDRESS=Raipur Marine Drive Raipur Marine Drive Telibanda Raipur 49002;X-APPLE-RADIUS=500;X-TITLE=Raipur Marine Drive\, Telibanda:geo:81.6604157,21.2407224
END:VEVENT
BEGIN:VEVENT
DTSTART;TZID=America/Chicago:20230122T060000
DTEND;TZID=America/Chicago:20230122T070000
DTSTAMP:20260421T073729
CREATED:20230107T033127Z
LAST-MODIFIED:20230107T033127Z
UID:10000279-1674367200-1674370800@staging5.runtra.com
SUMMARY:Raipur River Run
DESCRIPTION:This organizer's average rating is: 0.0  This is a run on Raipur marine drive.
URL:https://staging5.runtra.com/event/raipur-river-run/2023-01-22/
LOCATION:Raipur Marine Drive\, Raipur Marine Drive\, Telibanda\, Raipur\, 49002
CATEGORIES:Short Run
ATTACH;FMTTYPE=image/jpeg:https://staging5.runtra.com/wp-content/uploads/2023/01/26167203_908855435944954_6425181120329259286_n_20190305123458.jpg
ORGANIZER;CN="Amaresh%20Chitrakavi":MAILTO:chitrakavi@gmail.com
GEO:21.2407224;81.6604157
X-APPLE-STRUCTURED-LOCATION;VALUE=URI;X-ADDRESS=Raipur Marine Drive Raipur Marine Drive Telibanda Raipur 49002;X-APPLE-RADIUS=500;X-TITLE=Raipur Marine Drive\, Telibanda:geo:81.6604157,21.2407224
END:VEVENT
BEGIN:VEVENT
DTSTART;TZID=America/Chicago:20230121T060000
DTEND;TZID=America/Chicago:20230121T080000
DTSTAMP:20260421T073729
CREATED:20230107T044721Z
LAST-MODIFIED:20230118T122313Z
UID:10000287-1674280800-1674288000@staging5.runtra.com
SUMMARY:Vizag Beach Run
DESCRIPTION:This organizer's average rating is: 0.0  This is a morning run in Vizag beach
URL:https://staging5.runtra.com/event/vizag-beach-run/
CATEGORIES:Long Run
ATTACH;FMTTYPE=image/jpeg:https://staging5.runtra.com/wp-content/uploads/2023/01/images-2.jpeg
ORGANIZER;CN="Amaresh%20Chitrakavi":MAILTO:chitrakavi@gmail.com
END:VEVENT
BEGIN:VEVENT
DTSTART;TZID=America/Chicago:20230115T060000
DTEND;TZID=America/Chicago:20230115T070000
DTSTAMP:20260421T073729
CREATED:20230107T033127Z
LAST-MODIFIED:20230107T033127Z
UID:10000278-1673762400-1673766000@staging5.runtra.com
SUMMARY:Raipur River Run
DESCRIPTION:This organizer's average rating is: 0.0  This is a run on Raipur marine drive.
URL:https://staging5.runtra.com/event/raipur-river-run/2023-01-15/
LOCATION:Raipur Marine Drive\, Raipur Marine Drive\, Telibanda\, Raipur\, 49002
CATEGORIES:Short Run
ATTACH;FMTTYPE=image/jpeg:https://staging5.runtra.com/wp-content/uploads/2023/01/26167203_908855435944954_6425181120329259286_n_20190305123458.jpg
ORGANIZER;CN="Amaresh%20Chitrakavi":MAILTO:chitrakavi@gmail.com
GEO:21.2407224;81.6604157
X-APPLE-STRUCTURED-LOCATION;VALUE=URI;X-ADDRESS=Raipur Marine Drive Raipur Marine Drive Telibanda Raipur 49002;X-APPLE-RADIUS=500;X-TITLE=Raipur Marine Drive\, Telibanda:geo:81.6604157,21.2407224
END:VEVENT
BEGIN:VEVENT
DTSTART;TZID=America/Chicago:20230108T060000
DTEND;TZID=America/Chicago:20230108T070000
DTSTAMP:20260421T073729
CREATED:20230107T033127Z
LAST-MODIFIED:20230107T033127Z
UID:10000277-1673157600-1673161200@staging5.runtra.com
SUMMARY:Raipur River Run
DESCRIPTION:This organizer's average rating is: 0.0  This is a run on Raipur marine drive.
URL:https://staging5.runtra.com/event/raipur-river-run/2023-01-08/
LOCATION:Raipur Marine Drive\, Raipur Marine Drive\, Telibanda\, Raipur\, 49002
CATEGORIES:Short Run
ATTACH;FMTTYPE=image/jpeg:https://staging5.runtra.com/wp-content/uploads/2023/01/26167203_908855435944954_6425181120329259286_n_20190305123458.jpg
ORGANIZER;CN="Amaresh%20Chitrakavi":MAILTO:chitrakavi@gmail.com
GEO:21.2407224;81.6604157
X-APPLE-STRUCTURED-LOCATION;VALUE=URI;X-ADDRESS=Raipur Marine Drive Raipur Marine Drive Telibanda Raipur 49002;X-APPLE-RADIUS=500;X-TITLE=Raipur Marine Drive\, Telibanda:geo:81.6604157,21.2407224
END:VEVENT
END:VCALENDAR