BEGIN:VCALENDAR
VERSION:2.0
PRODID:-//Runtra - ECPv6.0.8//NONSGML v1.0//EN
CALSCALE:GREGORIAN
METHOD:PUBLISH
X-ORIGINAL-URL:https://staging5.runtra.com
X-WR-CALDESC:Events for Runtra
REFRESH-INTERVAL;VALUE=DURATION:PT1H
X-Robots-Tag:noindex
X-PUBLISHED-TTL:PT1H
BEGIN:VTIMEZONE
TZID:America/Chicago
BEGIN:DAYLIGHT
TZOFFSETFROM:-0600
TZOFFSETTO:-0500
TZNAME:CDT
DTSTART:20230312T080000
END:DAYLIGHT
BEGIN:STANDARD
TZOFFSETFROM:-0500
TZOFFSETTO:-0600
TZNAME:CST
DTSTART:20231105T070000
END:STANDARD
END:VTIMEZONE
BEGIN:VEVENT
DTSTART;TZID=America/Chicago:20230116T070000
DTEND;TZID=America/Chicago:20230116T090000
DTSTAMP:20260421T120603
CREATED:20221225T052530Z
LAST-MODIFIED:20230112T074831Z
UID:10000002-1673852400-1673859600@staging5.runtra.com
SUMMARY:Cubbon Park 15 KM
DESCRIPTION:This organizer's average rating is: 0.0  Join for a 15 KM supported run around Cubbon Park. This would be out first run for the season. Stay tuned for more updates.
URL:https://staging5.runtra.com/event/cubbon-park-15-km/
LOCATION:Cubbon Park\, Cubbon Park\, Bengaluru\, 560001\, India
CATEGORIES:Long Run
ATTACH;FMTTYPE=image/jpeg:https://staging5.runtra.com/wp-content/uploads/2022/12/kohli-1574679125-1.jpg
ORGANIZER;CN="Old%20Garden%20Runners%20Association":MAILTO:rajnikath@gmail.com
GEO:12.9779291;77.5951549
X-APPLE-STRUCTURED-LOCATION;VALUE=URI;X-ADDRESS=Cubbon Park Cubbon Park Bengaluru 560001 India;X-APPLE-RADIUS=500;X-TITLE=Cubbon Park:geo:77.5951549,12.9779291
END:VEVENT
END:VCALENDAR