BEGIN:VCALENDAR
VERSION:2.0
PRODID:-//Runtra - ECPv6.0.8//NONSGML v1.0//EN
CALSCALE:GREGORIAN
METHOD:PUBLISH
X-WR-CALNAME:Runtra
X-ORIGINAL-URL:https://staging5.runtra.com
X-WR-CALDESC:Events for Runtra
REFRESH-INTERVAL;VALUE=DURATION:PT1H
X-Robots-Tag:noindex
X-PUBLISHED-TTL:PT1H
BEGIN:VTIMEZONE
TZID:America/Chicago
BEGIN:DAYLIGHT
TZOFFSETFROM:-0600
TZOFFSETTO:-0500
TZNAME:CDT
DTSTART:20230312T080000
END:DAYLIGHT
BEGIN:STANDARD
TZOFFSETFROM:-0500
TZOFFSETTO:-0600
TZNAME:CST
DTSTART:20231105T070000
END:STANDARD
END:VTIMEZONE
BEGIN:VEVENT
DTSTART;TZID=America/Chicago:20230125T053000
DTEND;TZID=America/Chicago:20230125T080000
DTSTAMP:20260421T073701
CREATED:20221225T054242Z
LAST-MODIFIED:20230215T042654Z
UID:10000304-1674624600-1674633600@staging5.runtra.com
SUMMARY:Lalbagh Daily Morning Run
DESCRIPTION:Meet at Lalbagh entrance daily (Tu-Thu) at 6:00 AM for a 5KM to 10KM run.
URL:https://staging5.runtra.com/event/lalbagh-daily-morning-run/2023-01-25/
LOCATION:Lalbagh\, Lalbagh\, Bengaulru\, 560027\, India
CATEGORIES:Long Run
ATTACH;FMTTYPE=image/jpeg:https://staging5.runtra.com/wp-content/uploads/2022/12/20190723-running.jpg
ORGANIZER;CN="Red%20Stone%20Runners%20Club":MAILTO:hiralal@gmail.com
GEO:12.9507432;77.5847773
X-APPLE-STRUCTURED-LOCATION;VALUE=URI;X-ADDRESS=Lalbagh Lalbagh Bengaulru 560027 India;X-APPLE-RADIUS=500;X-TITLE=Lalbagh:geo:77.5847773,12.9507432
END:VEVENT
BEGIN:VEVENT
DTSTART;TZID=America/Chicago:20230126T053000
DTEND;TZID=America/Chicago:20230126T080000
DTSTAMP:20260421T073701
CREATED:20221225T054242Z
LAST-MODIFIED:20230215T042654Z
UID:10000305-1674711000-1674720000@staging5.runtra.com
SUMMARY:Lalbagh Daily Morning Run
DESCRIPTION:Meet at Lalbagh entrance daily (Tu-Thu) at 6:00 AM for a 5KM to 10KM run.
URL:https://staging5.runtra.com/event/lalbagh-daily-morning-run/2023-01-26/
LOCATION:Lalbagh\, Lalbagh\, Bengaulru\, 560027\, India
CATEGORIES:Long Run
ATTACH;FMTTYPE=image/jpeg:https://staging5.runtra.com/wp-content/uploads/2022/12/20190723-running.jpg
ORGANIZER;CN="Red%20Stone%20Runners%20Club":MAILTO:hiralal@gmail.com
GEO:12.9507432;77.5847773
X-APPLE-STRUCTURED-LOCATION;VALUE=URI;X-ADDRESS=Lalbagh Lalbagh Bengaulru 560027 India;X-APPLE-RADIUS=500;X-TITLE=Lalbagh:geo:77.5847773,12.9507432
END:VEVENT
BEGIN:VEVENT
DTSTART;TZID=America/Chicago:20230131T053000
DTEND;TZID=America/Chicago:20230131T080000
DTSTAMP:20260421T073701
CREATED:20221225T054242Z
LAST-MODIFIED:20230215T042654Z
UID:10000306-1675143000-1675152000@staging5.runtra.com
SUMMARY:Lalbagh Daily Morning Run
DESCRIPTION:Meet at Lalbagh entrance daily (Tu-Thu) at 6:00 AM for a 5KM to 10KM run.
URL:https://staging5.runtra.com/event/lalbagh-daily-morning-run/2023-01-31/
LOCATION:Lalbagh\, Lalbagh\, Bengaulru\, 560027\, India
CATEGORIES:Long Run
ATTACH;FMTTYPE=image/jpeg:https://staging5.runtra.com/wp-content/uploads/2022/12/20190723-running.jpg
ORGANIZER;CN="Red%20Stone%20Runners%20Club":MAILTO:hiralal@gmail.com
GEO:12.9507432;77.5847773
X-APPLE-STRUCTURED-LOCATION;VALUE=URI;X-ADDRESS=Lalbagh Lalbagh Bengaulru 560027 India;X-APPLE-RADIUS=500;X-TITLE=Lalbagh:geo:77.5847773,12.9507432
END:VEVENT
BEGIN:VEVENT
DTSTART;TZID=America/Chicago:20230201T053000
DTEND;TZID=America/Chicago:20230201T080000
DTSTAMP:20260421T073701
CREATED:20221225T054242Z
LAST-MODIFIED:20230215T042654Z
UID:10000307-1675229400-1675238400@staging5.runtra.com
SUMMARY:Lalbagh Daily Morning Run
DESCRIPTION:Meet at Lalbagh entrance daily (Tu-Thu) at 6:00 AM for a 5KM to 10KM run.
URL:https://staging5.runtra.com/event/lalbagh-daily-morning-run/2023-02-01/
LOCATION:Lalbagh\, Lalbagh\, Bengaulru\, 560027\, India
CATEGORIES:Long Run
ATTACH;FMTTYPE=image/jpeg:https://staging5.runtra.com/wp-content/uploads/2022/12/20190723-running.jpg
ORGANIZER;CN="Red%20Stone%20Runners%20Club":MAILTO:hiralal@gmail.com
GEO:12.9507432;77.5847773
X-APPLE-STRUCTURED-LOCATION;VALUE=URI;X-ADDRESS=Lalbagh Lalbagh Bengaulru 560027 India;X-APPLE-RADIUS=500;X-TITLE=Lalbagh:geo:77.5847773,12.9507432
END:VEVENT
BEGIN:VEVENT
DTSTART;TZID=America/Chicago:20230202T053000
DTEND;TZID=America/Chicago:20230202T080000
DTSTAMP:20260421T073701
CREATED:20221225T054242Z
LAST-MODIFIED:20230215T042654Z
UID:10000308-1675315800-1675324800@staging5.runtra.com
SUMMARY:Lalbagh Daily Morning Run
DESCRIPTION:Meet at Lalbagh entrance daily (Tu-Thu) at 6:00 AM for a 5KM to 10KM run.
URL:https://staging5.runtra.com/event/lalbagh-daily-morning-run/2023-02-02/
LOCATION:Lalbagh\, Lalbagh\, Bengaulru\, 560027\, India
CATEGORIES:Long Run
ATTACH;FMTTYPE=image/jpeg:https://staging5.runtra.com/wp-content/uploads/2022/12/20190723-running.jpg
ORGANIZER;CN="Red%20Stone%20Runners%20Club":MAILTO:hiralal@gmail.com
GEO:12.9507432;77.5847773
X-APPLE-STRUCTURED-LOCATION;VALUE=URI;X-ADDRESS=Lalbagh Lalbagh Bengaulru 560027 India;X-APPLE-RADIUS=500;X-TITLE=Lalbagh:geo:77.5847773,12.9507432
END:VEVENT
BEGIN:VEVENT
DTSTART;TZID=America/Chicago:20230207T053000
DTEND;TZID=America/Chicago:20230207T080000
DTSTAMP:20260421T073701
CREATED:20221225T054242Z
LAST-MODIFIED:20230215T042654Z
UID:10000309-1675747800-1675756800@staging5.runtra.com
SUMMARY:Lalbagh Daily Morning Run
DESCRIPTION:Meet at Lalbagh entrance daily (Tu-Thu) at 6:00 AM for a 5KM to 10KM run.
URL:https://staging5.runtra.com/event/lalbagh-daily-morning-run/2023-02-07/
LOCATION:Lalbagh\, Lalbagh\, Bengaulru\, 560027\, India
CATEGORIES:Long Run
ATTACH;FMTTYPE=image/jpeg:https://staging5.runtra.com/wp-content/uploads/2022/12/20190723-running.jpg
ORGANIZER;CN="Red%20Stone%20Runners%20Club":MAILTO:hiralal@gmail.com
GEO:12.9507432;77.5847773
X-APPLE-STRUCTURED-LOCATION;VALUE=URI;X-ADDRESS=Lalbagh Lalbagh Bengaulru 560027 India;X-APPLE-RADIUS=500;X-TITLE=Lalbagh:geo:77.5847773,12.9507432
END:VEVENT
BEGIN:VEVENT
DTSTART;TZID=America/Chicago:20230208T053000
DTEND;TZID=America/Chicago:20230208T080000
DTSTAMP:20260421T073701
CREATED:20221225T054242Z
LAST-MODIFIED:20230215T042654Z
UID:10000310-1675834200-1675843200@staging5.runtra.com
SUMMARY:Lalbagh Daily Morning Run
DESCRIPTION:Meet at Lalbagh entrance daily (Tu-Thu) at 6:00 AM for a 5KM to 10KM run.
URL:https://staging5.runtra.com/event/lalbagh-daily-morning-run/2023-02-08/
LOCATION:Lalbagh\, Lalbagh\, Bengaulru\, 560027\, India
CATEGORIES:Long Run
ATTACH;FMTTYPE=image/jpeg:https://staging5.runtra.com/wp-content/uploads/2022/12/20190723-running.jpg
ORGANIZER;CN="Red%20Stone%20Runners%20Club":MAILTO:hiralal@gmail.com
GEO:12.9507432;77.5847773
X-APPLE-STRUCTURED-LOCATION;VALUE=URI;X-ADDRESS=Lalbagh Lalbagh Bengaulru 560027 India;X-APPLE-RADIUS=500;X-TITLE=Lalbagh:geo:77.5847773,12.9507432
END:VEVENT
BEGIN:VEVENT
DTSTART;TZID=America/Chicago:20230209T053000
DTEND;TZID=America/Chicago:20230209T080000
DTSTAMP:20260421T073701
CREATED:20221225T054242Z
LAST-MODIFIED:20230215T042654Z
UID:10000311-1675920600-1675929600@staging5.runtra.com
SUMMARY:Lalbagh Daily Morning Run
DESCRIPTION:Meet at Lalbagh entrance daily (Tu-Thu) at 6:00 AM for a 5KM to 10KM run.
URL:https://staging5.runtra.com/event/lalbagh-daily-morning-run/2023-02-09/
LOCATION:Lalbagh\, Lalbagh\, Bengaulru\, 560027\, India
CATEGORIES:Long Run
ATTACH;FMTTYPE=image/jpeg:https://staging5.runtra.com/wp-content/uploads/2022/12/20190723-running.jpg
ORGANIZER;CN="Red%20Stone%20Runners%20Club":MAILTO:hiralal@gmail.com
GEO:12.9507432;77.5847773
X-APPLE-STRUCTURED-LOCATION;VALUE=URI;X-ADDRESS=Lalbagh Lalbagh Bengaulru 560027 India;X-APPLE-RADIUS=500;X-TITLE=Lalbagh:geo:77.5847773,12.9507432
END:VEVENT
BEGIN:VEVENT
DTSTART;TZID=America/Chicago:20230214T053000
DTEND;TZID=America/Chicago:20230214T080000
DTSTAMP:20260421T073701
CREATED:20221225T054242Z
LAST-MODIFIED:20230215T042654Z
UID:10000312-1676352600-1676361600@staging5.runtra.com
SUMMARY:Lalbagh Daily Morning Run
DESCRIPTION:Meet at Lalbagh entrance daily (Tu-Thu) at 6:00 AM for a 5KM to 10KM run.
URL:https://staging5.runtra.com/event/lalbagh-daily-morning-run/2023-02-14/
LOCATION:Lalbagh\, Lalbagh\, Bengaulru\, 560027\, India
CATEGORIES:Long Run
ATTACH;FMTTYPE=image/jpeg:https://staging5.runtra.com/wp-content/uploads/2022/12/20190723-running.jpg
ORGANIZER;CN="Red%20Stone%20Runners%20Club":MAILTO:hiralal@gmail.com
GEO:12.9507432;77.5847773
X-APPLE-STRUCTURED-LOCATION;VALUE=URI;X-ADDRESS=Lalbagh Lalbagh Bengaulru 560027 India;X-APPLE-RADIUS=500;X-TITLE=Lalbagh:geo:77.5847773,12.9507432
END:VEVENT
BEGIN:VEVENT
DTSTART;TZID=America/Chicago:20230215T053000
DTEND;TZID=America/Chicago:20230215T080000
DTSTAMP:20260421T073701
CREATED:20221225T054242Z
LAST-MODIFIED:20230215T042654Z
UID:10000313-1676439000-1676448000@staging5.runtra.com
SUMMARY:Lalbagh Daily Morning Run
DESCRIPTION:Meet at Lalbagh entrance daily (Tu-Thu) at 6:00 AM for a 5KM to 10KM run.
URL:https://staging5.runtra.com/event/lalbagh-daily-morning-run/2023-02-15/
LOCATION:Lalbagh\, Lalbagh\, Bengaulru\, 560027\, India
CATEGORIES:Long Run
ATTACH;FMTTYPE=image/jpeg:https://staging5.runtra.com/wp-content/uploads/2022/12/20190723-running.jpg
ORGANIZER;CN="Red%20Stone%20Runners%20Club":MAILTO:hiralal@gmail.com
GEO:12.9507432;77.5847773
X-APPLE-STRUCTURED-LOCATION;VALUE=URI;X-ADDRESS=Lalbagh Lalbagh Bengaulru 560027 India;X-APPLE-RADIUS=500;X-TITLE=Lalbagh:geo:77.5847773,12.9507432
END:VEVENT
BEGIN:VEVENT
DTSTART;TZID=America/Chicago:20230216T053000
DTEND;TZID=America/Chicago:20230216T080000
DTSTAMP:20260421T073701
CREATED:20221225T054242Z
LAST-MODIFIED:20230215T042654Z
UID:10000314-1676525400-1676534400@staging5.runtra.com
SUMMARY:Lalbagh Daily Morning Run
DESCRIPTION:Meet at Lalbagh entrance daily (Tu-Thu) at 6:00 AM for a 5KM to 10KM run.
URL:https://staging5.runtra.com/event/lalbagh-daily-morning-run/2023-02-16/
LOCATION:Lalbagh\, Lalbagh\, Bengaulru\, 560027\, India
CATEGORIES:Long Run
ATTACH;FMTTYPE=image/jpeg:https://staging5.runtra.com/wp-content/uploads/2022/12/20190723-running.jpg
ORGANIZER;CN="Red%20Stone%20Runners%20Club":MAILTO:hiralal@gmail.com
GEO:12.9507432;77.5847773
X-APPLE-STRUCTURED-LOCATION;VALUE=URI;X-ADDRESS=Lalbagh Lalbagh Bengaulru 560027 India;X-APPLE-RADIUS=500;X-TITLE=Lalbagh:geo:77.5847773,12.9507432
END:VEVENT
BEGIN:VEVENT
DTSTART;TZID=America/Chicago:20230221T053000
DTEND;TZID=America/Chicago:20230221T080000
DTSTAMP:20260421T073701
CREATED:20221225T054242Z
LAST-MODIFIED:20230215T042654Z
UID:10000315-1676957400-1676966400@staging5.runtra.com
SUMMARY:Lalbagh Daily Morning Run
DESCRIPTION:Meet at Lalbagh entrance daily (Tu-Thu) at 6:00 AM for a 5KM to 10KM run.
URL:https://staging5.runtra.com/event/lalbagh-daily-morning-run/2023-02-21/
LOCATION:Lalbagh\, Lalbagh\, Bengaulru\, 560027\, India
CATEGORIES:Long Run
ATTACH;FMTTYPE=image/jpeg:https://staging5.runtra.com/wp-content/uploads/2022/12/20190723-running.jpg
ORGANIZER;CN="Red%20Stone%20Runners%20Club":MAILTO:hiralal@gmail.com
GEO:12.9507432;77.5847773
X-APPLE-STRUCTURED-LOCATION;VALUE=URI;X-ADDRESS=Lalbagh Lalbagh Bengaulru 560027 India;X-APPLE-RADIUS=500;X-TITLE=Lalbagh:geo:77.5847773,12.9507432
END:VEVENT
BEGIN:VEVENT
DTSTART;TZID=America/Chicago:20230222T053000
DTEND;TZID=America/Chicago:20230222T080000
DTSTAMP:20260421T073701
CREATED:20221225T054242Z
LAST-MODIFIED:20230215T042654Z
UID:10000316-1677043800-1677052800@staging5.runtra.com
SUMMARY:Lalbagh Daily Morning Run
DESCRIPTION:Meet at Lalbagh entrance daily (Tu-Thu) at 6:00 AM for a 5KM to 10KM run.
URL:https://staging5.runtra.com/event/lalbagh-daily-morning-run/2023-02-22/
LOCATION:Lalbagh\, Lalbagh\, Bengaulru\, 560027\, India
CATEGORIES:Long Run
ATTACH;FMTTYPE=image/jpeg:https://staging5.runtra.com/wp-content/uploads/2022/12/20190723-running.jpg
ORGANIZER;CN="Red%20Stone%20Runners%20Club":MAILTO:hiralal@gmail.com
GEO:12.9507432;77.5847773
X-APPLE-STRUCTURED-LOCATION;VALUE=URI;X-ADDRESS=Lalbagh Lalbagh Bengaulru 560027 India;X-APPLE-RADIUS=500;X-TITLE=Lalbagh:geo:77.5847773,12.9507432
END:VEVENT
BEGIN:VEVENT
DTSTART;TZID=America/Chicago:20230223T053000
DTEND;TZID=America/Chicago:20230223T080000
DTSTAMP:20260421T073701
CREATED:20221225T054242Z
LAST-MODIFIED:20230215T042654Z
UID:10000317-1677130200-1677139200@staging5.runtra.com
SUMMARY:Lalbagh Daily Morning Run
DESCRIPTION:Meet at Lalbagh entrance daily (Tu-Thu) at 6:00 AM for a 5KM to 10KM run.
URL:https://staging5.runtra.com/event/lalbagh-daily-morning-run/2023-02-23/
LOCATION:Lalbagh\, Lalbagh\, Bengaulru\, 560027\, India
CATEGORIES:Long Run
ATTACH;FMTTYPE=image/jpeg:https://staging5.runtra.com/wp-content/uploads/2022/12/20190723-running.jpg
ORGANIZER;CN="Red%20Stone%20Runners%20Club":MAILTO:hiralal@gmail.com
GEO:12.9507432;77.5847773
X-APPLE-STRUCTURED-LOCATION;VALUE=URI;X-ADDRESS=Lalbagh Lalbagh Bengaulru 560027 India;X-APPLE-RADIUS=500;X-TITLE=Lalbagh:geo:77.5847773,12.9507432
END:VEVENT
BEGIN:VEVENT
DTSTART;TZID=America/Chicago:20230228T053000
DTEND;TZID=America/Chicago:20230228T080000
DTSTAMP:20260421T073701
CREATED:20221225T054242Z
LAST-MODIFIED:20230215T042654Z
UID:10000318-1677562200-1677571200@staging5.runtra.com
SUMMARY:Lalbagh Daily Morning Run
DESCRIPTION:Meet at Lalbagh entrance daily (Tu-Thu) at 6:00 AM for a 5KM to 10KM run.
URL:https://staging5.runtra.com/event/lalbagh-daily-morning-run/2023-02-28/
LOCATION:Lalbagh\, Lalbagh\, Bengaulru\, 560027\, India
CATEGORIES:Long Run
ATTACH;FMTTYPE=image/jpeg:https://staging5.runtra.com/wp-content/uploads/2022/12/20190723-running.jpg
ORGANIZER;CN="Red%20Stone%20Runners%20Club":MAILTO:hiralal@gmail.com
GEO:12.9507432;77.5847773
X-APPLE-STRUCTURED-LOCATION;VALUE=URI;X-ADDRESS=Lalbagh Lalbagh Bengaulru 560027 India;X-APPLE-RADIUS=500;X-TITLE=Lalbagh:geo:77.5847773,12.9507432
END:VEVENT
BEGIN:VEVENT
DTSTART;TZID=America/Chicago:20230301T053000
DTEND;TZID=America/Chicago:20230301T080000
DTSTAMP:20260421T073701
CREATED:20221225T054242Z
LAST-MODIFIED:20230215T042654Z
UID:10000319-1677648600-1677657600@staging5.runtra.com
SUMMARY:Lalbagh Daily Morning Run
DESCRIPTION:Meet at Lalbagh entrance daily (Tu-Thu) at 6:00 AM for a 5KM to 10KM run.
URL:https://staging5.runtra.com/event/lalbagh-daily-morning-run/2023-03-01/
LOCATION:Lalbagh\, Lalbagh\, Bengaulru\, 560027\, India
CATEGORIES:Long Run
ATTACH;FMTTYPE=image/jpeg:https://staging5.runtra.com/wp-content/uploads/2022/12/20190723-running.jpg
ORGANIZER;CN="Red%20Stone%20Runners%20Club":MAILTO:hiralal@gmail.com
GEO:12.9507432;77.5847773
X-APPLE-STRUCTURED-LOCATION;VALUE=URI;X-ADDRESS=Lalbagh Lalbagh Bengaulru 560027 India;X-APPLE-RADIUS=500;X-TITLE=Lalbagh:geo:77.5847773,12.9507432
END:VEVENT
BEGIN:VEVENT
DTSTART;TZID=America/Chicago:20230302T053000
DTEND;TZID=America/Chicago:20230302T080000
DTSTAMP:20260421T073701
CREATED:20221225T054242Z
LAST-MODIFIED:20230215T042654Z
UID:10000320-1677735000-1677744000@staging5.runtra.com
SUMMARY:Lalbagh Daily Morning Run
DESCRIPTION:Meet at Lalbagh entrance daily (Tu-Thu) at 6:00 AM for a 5KM to 10KM run.
URL:https://staging5.runtra.com/event/lalbagh-daily-morning-run/2023-03-02/
LOCATION:Lalbagh\, Lalbagh\, Bengaulru\, 560027\, India
CATEGORIES:Long Run
ATTACH;FMTTYPE=image/jpeg:https://staging5.runtra.com/wp-content/uploads/2022/12/20190723-running.jpg
ORGANIZER;CN="Red%20Stone%20Runners%20Club":MAILTO:hiralal@gmail.com
GEO:12.9507432;77.5847773
X-APPLE-STRUCTURED-LOCATION;VALUE=URI;X-ADDRESS=Lalbagh Lalbagh Bengaulru 560027 India;X-APPLE-RADIUS=500;X-TITLE=Lalbagh:geo:77.5847773,12.9507432
END:VEVENT
BEGIN:VEVENT
DTSTART;TZID=America/Chicago:20230307T053000
DTEND;TZID=America/Chicago:20230307T080000
DTSTAMP:20260421T073701
CREATED:20221225T054242Z
LAST-MODIFIED:20230215T042654Z
UID:10000321-1678167000-1678176000@staging5.runtra.com
SUMMARY:Lalbagh Daily Morning Run
DESCRIPTION:Meet at Lalbagh entrance daily (Tu-Thu) at 6:00 AM for a 5KM to 10KM run.
URL:https://staging5.runtra.com/event/lalbagh-daily-morning-run/2023-03-07/
LOCATION:Lalbagh\, Lalbagh\, Bengaulru\, 560027\, India
CATEGORIES:Long Run
ATTACH;FMTTYPE=image/jpeg:https://staging5.runtra.com/wp-content/uploads/2022/12/20190723-running.jpg
ORGANIZER;CN="Red%20Stone%20Runners%20Club":MAILTO:hiralal@gmail.com
GEO:12.9507432;77.5847773
X-APPLE-STRUCTURED-LOCATION;VALUE=URI;X-ADDRESS=Lalbagh Lalbagh Bengaulru 560027 India;X-APPLE-RADIUS=500;X-TITLE=Lalbagh:geo:77.5847773,12.9507432
END:VEVENT
BEGIN:VEVENT
DTSTART;TZID=America/Chicago:20230308T053000
DTEND;TZID=America/Chicago:20230308T080000
DTSTAMP:20260421T073701
CREATED:20221225T054242Z
LAST-MODIFIED:20230215T042654Z
UID:10000322-1678253400-1678262400@staging5.runtra.com
SUMMARY:Lalbagh Daily Morning Run
DESCRIPTION:Meet at Lalbagh entrance daily (Tu-Thu) at 6:00 AM for a 5KM to 10KM run.
URL:https://staging5.runtra.com/event/lalbagh-daily-morning-run/2023-03-08/
LOCATION:Lalbagh\, Lalbagh\, Bengaulru\, 560027\, India
CATEGORIES:Long Run
ATTACH;FMTTYPE=image/jpeg:https://staging5.runtra.com/wp-content/uploads/2022/12/20190723-running.jpg
ORGANIZER;CN="Red%20Stone%20Runners%20Club":MAILTO:hiralal@gmail.com
GEO:12.9507432;77.5847773
X-APPLE-STRUCTURED-LOCATION;VALUE=URI;X-ADDRESS=Lalbagh Lalbagh Bengaulru 560027 India;X-APPLE-RADIUS=500;X-TITLE=Lalbagh:geo:77.5847773,12.9507432
END:VEVENT
BEGIN:VEVENT
DTSTART;TZID=America/Chicago:20230309T053000
DTEND;TZID=America/Chicago:20230309T080000
DTSTAMP:20260421T073701
CREATED:20221225T054242Z
LAST-MODIFIED:20230215T042654Z
UID:10000323-1678339800-1678348800@staging5.runtra.com
SUMMARY:Lalbagh Daily Morning Run
DESCRIPTION:Meet at Lalbagh entrance daily (Tu-Thu) at 6:00 AM for a 5KM to 10KM run.
URL:https://staging5.runtra.com/event/lalbagh-daily-morning-run/2023-03-09/
LOCATION:Lalbagh\, Lalbagh\, Bengaulru\, 560027\, India
CATEGORIES:Long Run
ATTACH;FMTTYPE=image/jpeg:https://staging5.runtra.com/wp-content/uploads/2022/12/20190723-running.jpg
ORGANIZER;CN="Red%20Stone%20Runners%20Club":MAILTO:hiralal@gmail.com
GEO:12.9507432;77.5847773
X-APPLE-STRUCTURED-LOCATION;VALUE=URI;X-ADDRESS=Lalbagh Lalbagh Bengaulru 560027 India;X-APPLE-RADIUS=500;X-TITLE=Lalbagh:geo:77.5847773,12.9507432
END:VEVENT
BEGIN:VEVENT
DTSTART;TZID=America/Chicago:20230314T053000
DTEND;TZID=America/Chicago:20230314T080000
DTSTAMP:20260421T073701
CREATED:20221225T054242Z
LAST-MODIFIED:20230215T042654Z
UID:10000324-1678771800-1678780800@staging5.runtra.com
SUMMARY:Lalbagh Daily Morning Run
DESCRIPTION:Meet at Lalbagh entrance daily (Tu-Thu) at 6:00 AM for a 5KM to 10KM run.
URL:https://staging5.runtra.com/event/lalbagh-daily-morning-run/2023-03-14/
LOCATION:Lalbagh\, Lalbagh\, Bengaulru\, 560027\, India
CATEGORIES:Long Run
ATTACH;FMTTYPE=image/jpeg:https://staging5.runtra.com/wp-content/uploads/2022/12/20190723-running.jpg
ORGANIZER;CN="Red%20Stone%20Runners%20Club":MAILTO:hiralal@gmail.com
GEO:12.9507432;77.5847773
X-APPLE-STRUCTURED-LOCATION;VALUE=URI;X-ADDRESS=Lalbagh Lalbagh Bengaulru 560027 India;X-APPLE-RADIUS=500;X-TITLE=Lalbagh:geo:77.5847773,12.9507432
END:VEVENT
BEGIN:VEVENT
DTSTART;TZID=America/Chicago:20230315T053000
DTEND;TZID=America/Chicago:20230315T080000
DTSTAMP:20260421T073701
CREATED:20221225T054242Z
LAST-MODIFIED:20230215T042654Z
UID:10000325-1678858200-1678867200@staging5.runtra.com
SUMMARY:Lalbagh Daily Morning Run
DESCRIPTION:Meet at Lalbagh entrance daily (Tu-Thu) at 6:00 AM for a 5KM to 10KM run.
URL:https://staging5.runtra.com/event/lalbagh-daily-morning-run/2023-03-15/
LOCATION:Lalbagh\, Lalbagh\, Bengaulru\, 560027\, India
CATEGORIES:Long Run
ATTACH;FMTTYPE=image/jpeg:https://staging5.runtra.com/wp-content/uploads/2022/12/20190723-running.jpg
ORGANIZER;CN="Red%20Stone%20Runners%20Club":MAILTO:hiralal@gmail.com
GEO:12.9507432;77.5847773
X-APPLE-STRUCTURED-LOCATION;VALUE=URI;X-ADDRESS=Lalbagh Lalbagh Bengaulru 560027 India;X-APPLE-RADIUS=500;X-TITLE=Lalbagh:geo:77.5847773,12.9507432
END:VEVENT
BEGIN:VEVENT
DTSTART;TZID=America/Chicago:20230316T053000
DTEND;TZID=America/Chicago:20230316T080000
DTSTAMP:20260421T073701
CREATED:20221225T054242Z
LAST-MODIFIED:20230215T042654Z
UID:10000326-1678944600-1678953600@staging5.runtra.com
SUMMARY:Lalbagh Daily Morning Run
DESCRIPTION:Meet at Lalbagh entrance daily (Tu-Thu) at 6:00 AM for a 5KM to 10KM run.
URL:https://staging5.runtra.com/event/lalbagh-daily-morning-run/2023-03-16/
LOCATION:Lalbagh\, Lalbagh\, Bengaulru\, 560027\, India
CATEGORIES:Long Run
ATTACH;FMTTYPE=image/jpeg:https://staging5.runtra.com/wp-content/uploads/2022/12/20190723-running.jpg
ORGANIZER;CN="Red%20Stone%20Runners%20Club":MAILTO:hiralal@gmail.com
GEO:12.9507432;77.5847773
X-APPLE-STRUCTURED-LOCATION;VALUE=URI;X-ADDRESS=Lalbagh Lalbagh Bengaulru 560027 India;X-APPLE-RADIUS=500;X-TITLE=Lalbagh:geo:77.5847773,12.9507432
END:VEVENT
BEGIN:VEVENT
DTSTART;TZID=America/Chicago:20230321T053000
DTEND;TZID=America/Chicago:20230321T080000
DTSTAMP:20260421T073701
CREATED:20221225T054242Z
LAST-MODIFIED:20230215T042654Z
UID:10000327-1679376600-1679385600@staging5.runtra.com
SUMMARY:Lalbagh Daily Morning Run
DESCRIPTION:Meet at Lalbagh entrance daily (Tu-Thu) at 6:00 AM for a 5KM to 10KM run.
URL:https://staging5.runtra.com/event/lalbagh-daily-morning-run/2023-03-21/
LOCATION:Lalbagh\, Lalbagh\, Bengaulru\, 560027\, India
CATEGORIES:Long Run
ATTACH;FMTTYPE=image/jpeg:https://staging5.runtra.com/wp-content/uploads/2022/12/20190723-running.jpg
ORGANIZER;CN="Red%20Stone%20Runners%20Club":MAILTO:hiralal@gmail.com
GEO:12.9507432;77.5847773
X-APPLE-STRUCTURED-LOCATION;VALUE=URI;X-ADDRESS=Lalbagh Lalbagh Bengaulru 560027 India;X-APPLE-RADIUS=500;X-TITLE=Lalbagh:geo:77.5847773,12.9507432
END:VEVENT
BEGIN:VEVENT
DTSTART;TZID=America/Chicago:20230322T053000
DTEND;TZID=America/Chicago:20230322T080000
DTSTAMP:20260421T073701
CREATED:20221225T054242Z
LAST-MODIFIED:20230215T042654Z
UID:10000328-1679463000-1679472000@staging5.runtra.com
SUMMARY:Lalbagh Daily Morning Run
DESCRIPTION:Meet at Lalbagh entrance daily (Tu-Thu) at 6:00 AM for a 5KM to 10KM run.
URL:https://staging5.runtra.com/event/lalbagh-daily-morning-run/2023-03-22/
LOCATION:Lalbagh\, Lalbagh\, Bengaulru\, 560027\, India
CATEGORIES:Long Run
ATTACH;FMTTYPE=image/jpeg:https://staging5.runtra.com/wp-content/uploads/2022/12/20190723-running.jpg
ORGANIZER;CN="Red%20Stone%20Runners%20Club":MAILTO:hiralal@gmail.com
GEO:12.9507432;77.5847773
X-APPLE-STRUCTURED-LOCATION;VALUE=URI;X-ADDRESS=Lalbagh Lalbagh Bengaulru 560027 India;X-APPLE-RADIUS=500;X-TITLE=Lalbagh:geo:77.5847773,12.9507432
END:VEVENT
BEGIN:VEVENT
DTSTART;TZID=America/Chicago:20230323T053000
DTEND;TZID=America/Chicago:20230323T080000
DTSTAMP:20260421T073701
CREATED:20221225T054242Z
LAST-MODIFIED:20230215T042654Z
UID:10000329-1679549400-1679558400@staging5.runtra.com
SUMMARY:Lalbagh Daily Morning Run
DESCRIPTION:Meet at Lalbagh entrance daily (Tu-Thu) at 6:00 AM for a 5KM to 10KM run.
URL:https://staging5.runtra.com/event/lalbagh-daily-morning-run/2023-03-23/
LOCATION:Lalbagh\, Lalbagh\, Bengaulru\, 560027\, India
CATEGORIES:Long Run
ATTACH;FMTTYPE=image/jpeg:https://staging5.runtra.com/wp-content/uploads/2022/12/20190723-running.jpg
ORGANIZER;CN="Red%20Stone%20Runners%20Club":MAILTO:hiralal@gmail.com
GEO:12.9507432;77.5847773
X-APPLE-STRUCTURED-LOCATION;VALUE=URI;X-ADDRESS=Lalbagh Lalbagh Bengaulru 560027 India;X-APPLE-RADIUS=500;X-TITLE=Lalbagh:geo:77.5847773,12.9507432
END:VEVENT
BEGIN:VEVENT
DTSTART;TZID=America/Chicago:20230328T053000
DTEND;TZID=America/Chicago:20230328T080000
DTSTAMP:20260421T073701
CREATED:20221225T054242Z
LAST-MODIFIED:20230215T042654Z
UID:10000330-1679981400-1679990400@staging5.runtra.com
SUMMARY:Lalbagh Daily Morning Run
DESCRIPTION:Meet at Lalbagh entrance daily (Tu-Thu) at 6:00 AM for a 5KM to 10KM run.
URL:https://staging5.runtra.com/event/lalbagh-daily-morning-run/2023-03-28/
LOCATION:Lalbagh\, Lalbagh\, Bengaulru\, 560027\, India
CATEGORIES:Long Run
ATTACH;FMTTYPE=image/jpeg:https://staging5.runtra.com/wp-content/uploads/2022/12/20190723-running.jpg
ORGANIZER;CN="Red%20Stone%20Runners%20Club":MAILTO:hiralal@gmail.com
GEO:12.9507432;77.5847773
X-APPLE-STRUCTURED-LOCATION;VALUE=URI;X-ADDRESS=Lalbagh Lalbagh Bengaulru 560027 India;X-APPLE-RADIUS=500;X-TITLE=Lalbagh:geo:77.5847773,12.9507432
END:VEVENT
BEGIN:VEVENT
DTSTART;TZID=America/Chicago:20230329T053000
DTEND;TZID=America/Chicago:20230329T080000
DTSTAMP:20260421T073701
CREATED:20221225T054242Z
LAST-MODIFIED:20230215T042654Z
UID:10000331-1680067800-1680076800@staging5.runtra.com
SUMMARY:Lalbagh Daily Morning Run
DESCRIPTION:Meet at Lalbagh entrance daily (Tu-Thu) at 6:00 AM for a 5KM to 10KM run.
URL:https://staging5.runtra.com/event/lalbagh-daily-morning-run/2023-03-29/
LOCATION:Lalbagh\, Lalbagh\, Bengaulru\, 560027\, India
CATEGORIES:Long Run
ATTACH;FMTTYPE=image/jpeg:https://staging5.runtra.com/wp-content/uploads/2022/12/20190723-running.jpg
ORGANIZER;CN="Red%20Stone%20Runners%20Club":MAILTO:hiralal@gmail.com
GEO:12.9507432;77.5847773
X-APPLE-STRUCTURED-LOCATION;VALUE=URI;X-ADDRESS=Lalbagh Lalbagh Bengaulru 560027 India;X-APPLE-RADIUS=500;X-TITLE=Lalbagh:geo:77.5847773,12.9507432
END:VEVENT
BEGIN:VEVENT
DTSTART;TZID=America/Chicago:20230330T053000
DTEND;TZID=America/Chicago:20230330T080000
DTSTAMP:20260421T073701
CREATED:20221225T054242Z
LAST-MODIFIED:20230215T042654Z
UID:10000332-1680154200-1680163200@staging5.runtra.com
SUMMARY:Lalbagh Daily Morning Run
DESCRIPTION:Meet at Lalbagh entrance daily (Tu-Thu) at 6:00 AM for a 5KM to 10KM run.
URL:https://staging5.runtra.com/event/lalbagh-daily-morning-run/2023-03-30/
LOCATION:Lalbagh\, Lalbagh\, Bengaulru\, 560027\, India
CATEGORIES:Long Run
ATTACH;FMTTYPE=image/jpeg:https://staging5.runtra.com/wp-content/uploads/2022/12/20190723-running.jpg
ORGANIZER;CN="Red%20Stone%20Runners%20Club":MAILTO:hiralal@gmail.com
GEO:12.9507432;77.5847773
X-APPLE-STRUCTURED-LOCATION;VALUE=URI;X-ADDRESS=Lalbagh Lalbagh Bengaulru 560027 India;X-APPLE-RADIUS=500;X-TITLE=Lalbagh:geo:77.5847773,12.9507432
END:VEVENT
BEGIN:VEVENT
DTSTART;TZID=America/Chicago:20230404T053000
DTEND;TZID=America/Chicago:20230404T080000
DTSTAMP:20260421T073701
CREATED:20221225T054242Z
LAST-MODIFIED:20230215T042654Z
UID:10000333-1680586200-1680595200@staging5.runtra.com
SUMMARY:Lalbagh Daily Morning Run
DESCRIPTION:Meet at Lalbagh entrance daily (Tu-Thu) at 6:00 AM for a 5KM to 10KM run.
URL:https://staging5.runtra.com/event/lalbagh-daily-morning-run/2023-04-04/
LOCATION:Lalbagh\, Lalbagh\, Bengaulru\, 560027\, India
CATEGORIES:Long Run
ATTACH;FMTTYPE=image/jpeg:https://staging5.runtra.com/wp-content/uploads/2022/12/20190723-running.jpg
ORGANIZER;CN="Red%20Stone%20Runners%20Club":MAILTO:hiralal@gmail.com
GEO:12.9507432;77.5847773
X-APPLE-STRUCTURED-LOCATION;VALUE=URI;X-ADDRESS=Lalbagh Lalbagh Bengaulru 560027 India;X-APPLE-RADIUS=500;X-TITLE=Lalbagh:geo:77.5847773,12.9507432
END:VEVENT
END:VCALENDAR