BEGIN:VCALENDAR
VERSION:2.0
PRODID:-//Runtra - ECPv6.0.8//NONSGML v1.0//EN
CALSCALE:GREGORIAN
METHOD:PUBLISH
X-WR-CALNAME:Runtra
X-ORIGINAL-URL:https://staging5.runtra.com
X-WR-CALDESC:Events for Runtra
REFRESH-INTERVAL;VALUE=DURATION:PT1H
X-Robots-Tag:noindex
X-PUBLISHED-TTL:PT1H
BEGIN:VTIMEZONE
TZID:America/Chicago
BEGIN:DAYLIGHT
TZOFFSETFROM:-0600
TZOFFSETTO:-0500
TZNAME:CDT
DTSTART:20230312T080000
END:DAYLIGHT
BEGIN:STANDARD
TZOFFSETFROM:-0500
TZOFFSETTO:-0600
TZNAME:CST
DTSTART:20231105T070000
END:STANDARD
END:VTIMEZONE
BEGIN:VEVENT
DTSTART;TZID=America/Chicago:20230517T053000
DTEND;TZID=America/Chicago:20230517T080000
DTSTAMP:20260421T131706
CREATED:20221225T054242Z
LAST-MODIFIED:20230215T042654Z
UID:10000352-1684301400-1684310400@staging5.runtra.com
SUMMARY:Lalbagh Daily Morning Run
DESCRIPTION:Meet at Lalbagh entrance daily (Tu-Thu) at 6:00 AM for a 5KM to 10KM run.
URL:https://staging5.runtra.com/event/lalbagh-daily-morning-run/2023-05-17/
LOCATION:Lalbagh\, Lalbagh\, Bengaulru\, 560027\, India
CATEGORIES:Long Run
ATTACH;FMTTYPE=image/jpeg:https://staging5.runtra.com/wp-content/uploads/2022/12/20190723-running.jpg
ORGANIZER;CN="Red%20Stone%20Runners%20Club":MAILTO:hiralal@gmail.com
GEO:12.9507432;77.5847773
X-APPLE-STRUCTURED-LOCATION;VALUE=URI;X-ADDRESS=Lalbagh Lalbagh Bengaulru 560027 India;X-APPLE-RADIUS=500;X-TITLE=Lalbagh:geo:77.5847773,12.9507432
END:VEVENT
BEGIN:VEVENT
DTSTART;TZID=America/Chicago:20230518T053000
DTEND;TZID=America/Chicago:20230518T080000
DTSTAMP:20260421T131706
CREATED:20221225T054242Z
LAST-MODIFIED:20230215T042654Z
UID:10000353-1684387800-1684396800@staging5.runtra.com
SUMMARY:Lalbagh Daily Morning Run
DESCRIPTION:Meet at Lalbagh entrance daily (Tu-Thu) at 6:00 AM for a 5KM to 10KM run.
URL:https://staging5.runtra.com/event/lalbagh-daily-morning-run/2023-05-18/
LOCATION:Lalbagh\, Lalbagh\, Bengaulru\, 560027\, India
CATEGORIES:Long Run
ATTACH;FMTTYPE=image/jpeg:https://staging5.runtra.com/wp-content/uploads/2022/12/20190723-running.jpg
ORGANIZER;CN="Red%20Stone%20Runners%20Club":MAILTO:hiralal@gmail.com
GEO:12.9507432;77.5847773
X-APPLE-STRUCTURED-LOCATION;VALUE=URI;X-ADDRESS=Lalbagh Lalbagh Bengaulru 560027 India;X-APPLE-RADIUS=500;X-TITLE=Lalbagh:geo:77.5847773,12.9507432
END:VEVENT
BEGIN:VEVENT
DTSTART;TZID=America/Chicago:20230523T053000
DTEND;TZID=America/Chicago:20230523T080000
DTSTAMP:20260421T131706
CREATED:20221225T054242Z
LAST-MODIFIED:20230215T042654Z
UID:10000354-1684819800-1684828800@staging5.runtra.com
SUMMARY:Lalbagh Daily Morning Run
DESCRIPTION:Meet at Lalbagh entrance daily (Tu-Thu) at 6:00 AM for a 5KM to 10KM run.
URL:https://staging5.runtra.com/event/lalbagh-daily-morning-run/2023-05-23/
LOCATION:Lalbagh\, Lalbagh\, Bengaulru\, 560027\, India
CATEGORIES:Long Run
ATTACH;FMTTYPE=image/jpeg:https://staging5.runtra.com/wp-content/uploads/2022/12/20190723-running.jpg
ORGANIZER;CN="Red%20Stone%20Runners%20Club":MAILTO:hiralal@gmail.com
GEO:12.9507432;77.5847773
X-APPLE-STRUCTURED-LOCATION;VALUE=URI;X-ADDRESS=Lalbagh Lalbagh Bengaulru 560027 India;X-APPLE-RADIUS=500;X-TITLE=Lalbagh:geo:77.5847773,12.9507432
END:VEVENT
BEGIN:VEVENT
DTSTART;TZID=America/Chicago:20230524T053000
DTEND;TZID=America/Chicago:20230524T080000
DTSTAMP:20260421T131706
CREATED:20221225T054242Z
LAST-MODIFIED:20230215T042654Z
UID:10000355-1684906200-1684915200@staging5.runtra.com
SUMMARY:Lalbagh Daily Morning Run
DESCRIPTION:Meet at Lalbagh entrance daily (Tu-Thu) at 6:00 AM for a 5KM to 10KM run.
URL:https://staging5.runtra.com/event/lalbagh-daily-morning-run/2023-05-24/
LOCATION:Lalbagh\, Lalbagh\, Bengaulru\, 560027\, India
CATEGORIES:Long Run
ATTACH;FMTTYPE=image/jpeg:https://staging5.runtra.com/wp-content/uploads/2022/12/20190723-running.jpg
ORGANIZER;CN="Red%20Stone%20Runners%20Club":MAILTO:hiralal@gmail.com
GEO:12.9507432;77.5847773
X-APPLE-STRUCTURED-LOCATION;VALUE=URI;X-ADDRESS=Lalbagh Lalbagh Bengaulru 560027 India;X-APPLE-RADIUS=500;X-TITLE=Lalbagh:geo:77.5847773,12.9507432
END:VEVENT
BEGIN:VEVENT
DTSTART;TZID=America/Chicago:20230525T053000
DTEND;TZID=America/Chicago:20230525T080000
DTSTAMP:20260421T131706
CREATED:20221225T054242Z
LAST-MODIFIED:20230215T042654Z
UID:10000356-1684992600-1685001600@staging5.runtra.com
SUMMARY:Lalbagh Daily Morning Run
DESCRIPTION:Meet at Lalbagh entrance daily (Tu-Thu) at 6:00 AM for a 5KM to 10KM run.
URL:https://staging5.runtra.com/event/lalbagh-daily-morning-run/2023-05-25/
LOCATION:Lalbagh\, Lalbagh\, Bengaulru\, 560027\, India
CATEGORIES:Long Run
ATTACH;FMTTYPE=image/jpeg:https://staging5.runtra.com/wp-content/uploads/2022/12/20190723-running.jpg
ORGANIZER;CN="Red%20Stone%20Runners%20Club":MAILTO:hiralal@gmail.com
GEO:12.9507432;77.5847773
X-APPLE-STRUCTURED-LOCATION;VALUE=URI;X-ADDRESS=Lalbagh Lalbagh Bengaulru 560027 India;X-APPLE-RADIUS=500;X-TITLE=Lalbagh:geo:77.5847773,12.9507432
END:VEVENT
BEGIN:VEVENT
DTSTART;TZID=America/Chicago:20230530T053000
DTEND;TZID=America/Chicago:20230530T080000
DTSTAMP:20260421T131706
CREATED:20221225T054242Z
LAST-MODIFIED:20230215T042654Z
UID:10000357-1685424600-1685433600@staging5.runtra.com
SUMMARY:Lalbagh Daily Morning Run
DESCRIPTION:Meet at Lalbagh entrance daily (Tu-Thu) at 6:00 AM for a 5KM to 10KM run.
URL:https://staging5.runtra.com/event/lalbagh-daily-morning-run/2023-05-30/
LOCATION:Lalbagh\, Lalbagh\, Bengaulru\, 560027\, India
CATEGORIES:Long Run
ATTACH;FMTTYPE=image/jpeg:https://staging5.runtra.com/wp-content/uploads/2022/12/20190723-running.jpg
ORGANIZER;CN="Red%20Stone%20Runners%20Club":MAILTO:hiralal@gmail.com
GEO:12.9507432;77.5847773
X-APPLE-STRUCTURED-LOCATION;VALUE=URI;X-ADDRESS=Lalbagh Lalbagh Bengaulru 560027 India;X-APPLE-RADIUS=500;X-TITLE=Lalbagh:geo:77.5847773,12.9507432
END:VEVENT
BEGIN:VEVENT
DTSTART;TZID=America/Chicago:20230531T053000
DTEND;TZID=America/Chicago:20230531T080000
DTSTAMP:20260421T131706
CREATED:20221225T054242Z
LAST-MODIFIED:20230215T042654Z
UID:10000358-1685511000-1685520000@staging5.runtra.com
SUMMARY:Lalbagh Daily Morning Run
DESCRIPTION:Meet at Lalbagh entrance daily (Tu-Thu) at 6:00 AM for a 5KM to 10KM run.
URL:https://staging5.runtra.com/event/lalbagh-daily-morning-run/2023-05-31/
LOCATION:Lalbagh\, Lalbagh\, Bengaulru\, 560027\, India
CATEGORIES:Long Run
ATTACH;FMTTYPE=image/jpeg:https://staging5.runtra.com/wp-content/uploads/2022/12/20190723-running.jpg
ORGANIZER;CN="Red%20Stone%20Runners%20Club":MAILTO:hiralal@gmail.com
GEO:12.9507432;77.5847773
X-APPLE-STRUCTURED-LOCATION;VALUE=URI;X-ADDRESS=Lalbagh Lalbagh Bengaulru 560027 India;X-APPLE-RADIUS=500;X-TITLE=Lalbagh:geo:77.5847773,12.9507432
END:VEVENT
BEGIN:VEVENT
DTSTART;TZID=America/Chicago:20230601T053000
DTEND;TZID=America/Chicago:20230601T080000
DTSTAMP:20260421T131706
CREATED:20221225T054242Z
LAST-MODIFIED:20230215T042654Z
UID:10000359-1685597400-1685606400@staging5.runtra.com
SUMMARY:Lalbagh Daily Morning Run
DESCRIPTION:Meet at Lalbagh entrance daily (Tu-Thu) at 6:00 AM for a 5KM to 10KM run.
URL:https://staging5.runtra.com/event/lalbagh-daily-morning-run/2023-06-01/
LOCATION:Lalbagh\, Lalbagh\, Bengaulru\, 560027\, India
CATEGORIES:Long Run
ATTACH;FMTTYPE=image/jpeg:https://staging5.runtra.com/wp-content/uploads/2022/12/20190723-running.jpg
ORGANIZER;CN="Red%20Stone%20Runners%20Club":MAILTO:hiralal@gmail.com
GEO:12.9507432;77.5847773
X-APPLE-STRUCTURED-LOCATION;VALUE=URI;X-ADDRESS=Lalbagh Lalbagh Bengaulru 560027 India;X-APPLE-RADIUS=500;X-TITLE=Lalbagh:geo:77.5847773,12.9507432
END:VEVENT
BEGIN:VEVENT
DTSTART;TZID=America/Chicago:20230606T053000
DTEND;TZID=America/Chicago:20230606T080000
DTSTAMP:20260421T131706
CREATED:20221225T054242Z
LAST-MODIFIED:20230215T042654Z
UID:10000360-1686029400-1686038400@staging5.runtra.com
SUMMARY:Lalbagh Daily Morning Run
DESCRIPTION:Meet at Lalbagh entrance daily (Tu-Thu) at 6:00 AM for a 5KM to 10KM run.
URL:https://staging5.runtra.com/event/lalbagh-daily-morning-run/2023-06-06/
LOCATION:Lalbagh\, Lalbagh\, Bengaulru\, 560027\, India
CATEGORIES:Long Run
ATTACH;FMTTYPE=image/jpeg:https://staging5.runtra.com/wp-content/uploads/2022/12/20190723-running.jpg
ORGANIZER;CN="Red%20Stone%20Runners%20Club":MAILTO:hiralal@gmail.com
GEO:12.9507432;77.5847773
X-APPLE-STRUCTURED-LOCATION;VALUE=URI;X-ADDRESS=Lalbagh Lalbagh Bengaulru 560027 India;X-APPLE-RADIUS=500;X-TITLE=Lalbagh:geo:77.5847773,12.9507432
END:VEVENT
BEGIN:VEVENT
DTSTART;TZID=America/Chicago:20230607T053000
DTEND;TZID=America/Chicago:20230607T080000
DTSTAMP:20260421T131706
CREATED:20221225T054242Z
LAST-MODIFIED:20230215T042654Z
UID:10000361-1686115800-1686124800@staging5.runtra.com
SUMMARY:Lalbagh Daily Morning Run
DESCRIPTION:Meet at Lalbagh entrance daily (Tu-Thu) at 6:00 AM for a 5KM to 10KM run.
URL:https://staging5.runtra.com/event/lalbagh-daily-morning-run/2023-06-07/
LOCATION:Lalbagh\, Lalbagh\, Bengaulru\, 560027\, India
CATEGORIES:Long Run
ATTACH;FMTTYPE=image/jpeg:https://staging5.runtra.com/wp-content/uploads/2022/12/20190723-running.jpg
ORGANIZER;CN="Red%20Stone%20Runners%20Club":MAILTO:hiralal@gmail.com
GEO:12.9507432;77.5847773
X-APPLE-STRUCTURED-LOCATION;VALUE=URI;X-ADDRESS=Lalbagh Lalbagh Bengaulru 560027 India;X-APPLE-RADIUS=500;X-TITLE=Lalbagh:geo:77.5847773,12.9507432
END:VEVENT
BEGIN:VEVENT
DTSTART;TZID=America/Chicago:20230608T053000
DTEND;TZID=America/Chicago:20230608T080000
DTSTAMP:20260421T131706
CREATED:20221225T054242Z
LAST-MODIFIED:20230215T042654Z
UID:10000362-1686202200-1686211200@staging5.runtra.com
SUMMARY:Lalbagh Daily Morning Run
DESCRIPTION:Meet at Lalbagh entrance daily (Tu-Thu) at 6:00 AM for a 5KM to 10KM run.
URL:https://staging5.runtra.com/event/lalbagh-daily-morning-run/2023-06-08/
LOCATION:Lalbagh\, Lalbagh\, Bengaulru\, 560027\, India
CATEGORIES:Long Run
ATTACH;FMTTYPE=image/jpeg:https://staging5.runtra.com/wp-content/uploads/2022/12/20190723-running.jpg
ORGANIZER;CN="Red%20Stone%20Runners%20Club":MAILTO:hiralal@gmail.com
GEO:12.9507432;77.5847773
X-APPLE-STRUCTURED-LOCATION;VALUE=URI;X-ADDRESS=Lalbagh Lalbagh Bengaulru 560027 India;X-APPLE-RADIUS=500;X-TITLE=Lalbagh:geo:77.5847773,12.9507432
END:VEVENT
BEGIN:VEVENT
DTSTART;TZID=America/Chicago:20230613T053000
DTEND;TZID=America/Chicago:20230613T080000
DTSTAMP:20260421T131706
CREATED:20221225T054242Z
LAST-MODIFIED:20230215T042654Z
UID:10000363-1686634200-1686643200@staging5.runtra.com
SUMMARY:Lalbagh Daily Morning Run
DESCRIPTION:Meet at Lalbagh entrance daily (Tu-Thu) at 6:00 AM for a 5KM to 10KM run.
URL:https://staging5.runtra.com/event/lalbagh-daily-morning-run/2023-06-13/
LOCATION:Lalbagh\, Lalbagh\, Bengaulru\, 560027\, India
CATEGORIES:Long Run
ATTACH;FMTTYPE=image/jpeg:https://staging5.runtra.com/wp-content/uploads/2022/12/20190723-running.jpg
ORGANIZER;CN="Red%20Stone%20Runners%20Club":MAILTO:hiralal@gmail.com
GEO:12.9507432;77.5847773
X-APPLE-STRUCTURED-LOCATION;VALUE=URI;X-ADDRESS=Lalbagh Lalbagh Bengaulru 560027 India;X-APPLE-RADIUS=500;X-TITLE=Lalbagh:geo:77.5847773,12.9507432
END:VEVENT
BEGIN:VEVENT
DTSTART;TZID=America/Chicago:20230614T053000
DTEND;TZID=America/Chicago:20230614T080000
DTSTAMP:20260421T131706
CREATED:20221225T054242Z
LAST-MODIFIED:20230215T042654Z
UID:10000364-1686720600-1686729600@staging5.runtra.com
SUMMARY:Lalbagh Daily Morning Run
DESCRIPTION:Meet at Lalbagh entrance daily (Tu-Thu) at 6:00 AM for a 5KM to 10KM run.
URL:https://staging5.runtra.com/event/lalbagh-daily-morning-run/2023-06-14/
LOCATION:Lalbagh\, Lalbagh\, Bengaulru\, 560027\, India
CATEGORIES:Long Run
ATTACH;FMTTYPE=image/jpeg:https://staging5.runtra.com/wp-content/uploads/2022/12/20190723-running.jpg
ORGANIZER;CN="Red%20Stone%20Runners%20Club":MAILTO:hiralal@gmail.com
GEO:12.9507432;77.5847773
X-APPLE-STRUCTURED-LOCATION;VALUE=URI;X-ADDRESS=Lalbagh Lalbagh Bengaulru 560027 India;X-APPLE-RADIUS=500;X-TITLE=Lalbagh:geo:77.5847773,12.9507432
END:VEVENT
BEGIN:VEVENT
DTSTART;TZID=America/Chicago:20230615T053000
DTEND;TZID=America/Chicago:20230615T080000
DTSTAMP:20260421T131706
CREATED:20221225T054242Z
LAST-MODIFIED:20230215T042654Z
UID:10000365-1686807000-1686816000@staging5.runtra.com
SUMMARY:Lalbagh Daily Morning Run
DESCRIPTION:Meet at Lalbagh entrance daily (Tu-Thu) at 6:00 AM for a 5KM to 10KM run.
URL:https://staging5.runtra.com/event/lalbagh-daily-morning-run/2023-06-15/
LOCATION:Lalbagh\, Lalbagh\, Bengaulru\, 560027\, India
CATEGORIES:Long Run
ATTACH;FMTTYPE=image/jpeg:https://staging5.runtra.com/wp-content/uploads/2022/12/20190723-running.jpg
ORGANIZER;CN="Red%20Stone%20Runners%20Club":MAILTO:hiralal@gmail.com
GEO:12.9507432;77.5847773
X-APPLE-STRUCTURED-LOCATION;VALUE=URI;X-ADDRESS=Lalbagh Lalbagh Bengaulru 560027 India;X-APPLE-RADIUS=500;X-TITLE=Lalbagh:geo:77.5847773,12.9507432
END:VEVENT
BEGIN:VEVENT
DTSTART;TZID=America/Chicago:20230620T053000
DTEND;TZID=America/Chicago:20230620T080000
DTSTAMP:20260421T131706
CREATED:20221225T054242Z
LAST-MODIFIED:20230215T042654Z
UID:10000366-1687239000-1687248000@staging5.runtra.com
SUMMARY:Lalbagh Daily Morning Run
DESCRIPTION:Meet at Lalbagh entrance daily (Tu-Thu) at 6:00 AM for a 5KM to 10KM run.
URL:https://staging5.runtra.com/event/lalbagh-daily-morning-run/2023-06-20/
LOCATION:Lalbagh\, Lalbagh\, Bengaulru\, 560027\, India
CATEGORIES:Long Run
ATTACH;FMTTYPE=image/jpeg:https://staging5.runtra.com/wp-content/uploads/2022/12/20190723-running.jpg
ORGANIZER;CN="Red%20Stone%20Runners%20Club":MAILTO:hiralal@gmail.com
GEO:12.9507432;77.5847773
X-APPLE-STRUCTURED-LOCATION;VALUE=URI;X-ADDRESS=Lalbagh Lalbagh Bengaulru 560027 India;X-APPLE-RADIUS=500;X-TITLE=Lalbagh:geo:77.5847773,12.9507432
END:VEVENT
BEGIN:VEVENT
DTSTART;TZID=America/Chicago:20230621T053000
DTEND;TZID=America/Chicago:20230621T080000
DTSTAMP:20260421T131706
CREATED:20221225T054242Z
LAST-MODIFIED:20230215T042654Z
UID:10000367-1687325400-1687334400@staging5.runtra.com
SUMMARY:Lalbagh Daily Morning Run
DESCRIPTION:Meet at Lalbagh entrance daily (Tu-Thu) at 6:00 AM for a 5KM to 10KM run.
URL:https://staging5.runtra.com/event/lalbagh-daily-morning-run/2023-06-21/
LOCATION:Lalbagh\, Lalbagh\, Bengaulru\, 560027\, India
CATEGORIES:Long Run
ATTACH;FMTTYPE=image/jpeg:https://staging5.runtra.com/wp-content/uploads/2022/12/20190723-running.jpg
ORGANIZER;CN="Red%20Stone%20Runners%20Club":MAILTO:hiralal@gmail.com
GEO:12.9507432;77.5847773
X-APPLE-STRUCTURED-LOCATION;VALUE=URI;X-ADDRESS=Lalbagh Lalbagh Bengaulru 560027 India;X-APPLE-RADIUS=500;X-TITLE=Lalbagh:geo:77.5847773,12.9507432
END:VEVENT
BEGIN:VEVENT
DTSTART;TZID=America/Chicago:20230622T053000
DTEND;TZID=America/Chicago:20230622T080000
DTSTAMP:20260421T131706
CREATED:20221225T054242Z
LAST-MODIFIED:20230215T042654Z
UID:10000368-1687411800-1687420800@staging5.runtra.com
SUMMARY:Lalbagh Daily Morning Run
DESCRIPTION:Meet at Lalbagh entrance daily (Tu-Thu) at 6:00 AM for a 5KM to 10KM run.
URL:https://staging5.runtra.com/event/lalbagh-daily-morning-run/2023-06-22/
LOCATION:Lalbagh\, Lalbagh\, Bengaulru\, 560027\, India
CATEGORIES:Long Run
ATTACH;FMTTYPE=image/jpeg:https://staging5.runtra.com/wp-content/uploads/2022/12/20190723-running.jpg
ORGANIZER;CN="Red%20Stone%20Runners%20Club":MAILTO:hiralal@gmail.com
GEO:12.9507432;77.5847773
X-APPLE-STRUCTURED-LOCATION;VALUE=URI;X-ADDRESS=Lalbagh Lalbagh Bengaulru 560027 India;X-APPLE-RADIUS=500;X-TITLE=Lalbagh:geo:77.5847773,12.9507432
END:VEVENT
BEGIN:VEVENT
DTSTART;TZID=America/Chicago:20230627T053000
DTEND;TZID=America/Chicago:20230627T080000
DTSTAMP:20260421T131706
CREATED:20221225T054242Z
LAST-MODIFIED:20230215T042654Z
UID:10000369-1687843800-1687852800@staging5.runtra.com
SUMMARY:Lalbagh Daily Morning Run
DESCRIPTION:Meet at Lalbagh entrance daily (Tu-Thu) at 6:00 AM for a 5KM to 10KM run.
URL:https://staging5.runtra.com/event/lalbagh-daily-morning-run/2023-06-27/
LOCATION:Lalbagh\, Lalbagh\, Bengaulru\, 560027\, India
CATEGORIES:Long Run
ATTACH;FMTTYPE=image/jpeg:https://staging5.runtra.com/wp-content/uploads/2022/12/20190723-running.jpg
ORGANIZER;CN="Red%20Stone%20Runners%20Club":MAILTO:hiralal@gmail.com
GEO:12.9507432;77.5847773
X-APPLE-STRUCTURED-LOCATION;VALUE=URI;X-ADDRESS=Lalbagh Lalbagh Bengaulru 560027 India;X-APPLE-RADIUS=500;X-TITLE=Lalbagh:geo:77.5847773,12.9507432
END:VEVENT
BEGIN:VEVENT
DTSTART;TZID=America/Chicago:20230628T053000
DTEND;TZID=America/Chicago:20230628T080000
DTSTAMP:20260421T131706
CREATED:20221225T054242Z
LAST-MODIFIED:20230215T042654Z
UID:10000370-1687930200-1687939200@staging5.runtra.com
SUMMARY:Lalbagh Daily Morning Run
DESCRIPTION:Meet at Lalbagh entrance daily (Tu-Thu) at 6:00 AM for a 5KM to 10KM run.
URL:https://staging5.runtra.com/event/lalbagh-daily-morning-run/2023-06-28/
LOCATION:Lalbagh\, Lalbagh\, Bengaulru\, 560027\, India
CATEGORIES:Long Run
ATTACH;FMTTYPE=image/jpeg:https://staging5.runtra.com/wp-content/uploads/2022/12/20190723-running.jpg
ORGANIZER;CN="Red%20Stone%20Runners%20Club":MAILTO:hiralal@gmail.com
GEO:12.9507432;77.5847773
X-APPLE-STRUCTURED-LOCATION;VALUE=URI;X-ADDRESS=Lalbagh Lalbagh Bengaulru 560027 India;X-APPLE-RADIUS=500;X-TITLE=Lalbagh:geo:77.5847773,12.9507432
END:VEVENT
BEGIN:VEVENT
DTSTART;TZID=America/Chicago:20230629T053000
DTEND;TZID=America/Chicago:20230629T080000
DTSTAMP:20260421T131706
CREATED:20221225T054242Z
LAST-MODIFIED:20230215T042654Z
UID:10000371-1688016600-1688025600@staging5.runtra.com
SUMMARY:Lalbagh Daily Morning Run
DESCRIPTION:Meet at Lalbagh entrance daily (Tu-Thu) at 6:00 AM for a 5KM to 10KM run.
URL:https://staging5.runtra.com/event/lalbagh-daily-morning-run/2023-06-29/
LOCATION:Lalbagh\, Lalbagh\, Bengaulru\, 560027\, India
CATEGORIES:Long Run
ATTACH;FMTTYPE=image/jpeg:https://staging5.runtra.com/wp-content/uploads/2022/12/20190723-running.jpg
ORGANIZER;CN="Red%20Stone%20Runners%20Club":MAILTO:hiralal@gmail.com
GEO:12.9507432;77.5847773
X-APPLE-STRUCTURED-LOCATION;VALUE=URI;X-ADDRESS=Lalbagh Lalbagh Bengaulru 560027 India;X-APPLE-RADIUS=500;X-TITLE=Lalbagh:geo:77.5847773,12.9507432
END:VEVENT
BEGIN:VEVENT
DTSTART;TZID=America/Chicago:20230704T053000
DTEND;TZID=America/Chicago:20230704T080000
DTSTAMP:20260421T131706
CREATED:20221225T054242Z
LAST-MODIFIED:20230215T042654Z
UID:10000372-1688448600-1688457600@staging5.runtra.com
SUMMARY:Lalbagh Daily Morning Run
DESCRIPTION:Meet at Lalbagh entrance daily (Tu-Thu) at 6:00 AM for a 5KM to 10KM run.
URL:https://staging5.runtra.com/event/lalbagh-daily-morning-run/2023-07-04/
LOCATION:Lalbagh\, Lalbagh\, Bengaulru\, 560027\, India
CATEGORIES:Long Run
ATTACH;FMTTYPE=image/jpeg:https://staging5.runtra.com/wp-content/uploads/2022/12/20190723-running.jpg
ORGANIZER;CN="Red%20Stone%20Runners%20Club":MAILTO:hiralal@gmail.com
GEO:12.9507432;77.5847773
X-APPLE-STRUCTURED-LOCATION;VALUE=URI;X-ADDRESS=Lalbagh Lalbagh Bengaulru 560027 India;X-APPLE-RADIUS=500;X-TITLE=Lalbagh:geo:77.5847773,12.9507432
END:VEVENT
BEGIN:VEVENT
DTSTART;TZID=America/Chicago:20230705T053000
DTEND;TZID=America/Chicago:20230705T080000
DTSTAMP:20260421T131706
CREATED:20221225T054242Z
LAST-MODIFIED:20230215T042654Z
UID:10000373-1688535000-1688544000@staging5.runtra.com
SUMMARY:Lalbagh Daily Morning Run
DESCRIPTION:Meet at Lalbagh entrance daily (Tu-Thu) at 6:00 AM for a 5KM to 10KM run.
URL:https://staging5.runtra.com/event/lalbagh-daily-morning-run/2023-07-05/
LOCATION:Lalbagh\, Lalbagh\, Bengaulru\, 560027\, India
CATEGORIES:Long Run
ATTACH;FMTTYPE=image/jpeg:https://staging5.runtra.com/wp-content/uploads/2022/12/20190723-running.jpg
ORGANIZER;CN="Red%20Stone%20Runners%20Club":MAILTO:hiralal@gmail.com
GEO:12.9507432;77.5847773
X-APPLE-STRUCTURED-LOCATION;VALUE=URI;X-ADDRESS=Lalbagh Lalbagh Bengaulru 560027 India;X-APPLE-RADIUS=500;X-TITLE=Lalbagh:geo:77.5847773,12.9507432
END:VEVENT
BEGIN:VEVENT
DTSTART;TZID=America/Chicago:20230706T053000
DTEND;TZID=America/Chicago:20230706T080000
DTSTAMP:20260421T131706
CREATED:20221225T054242Z
LAST-MODIFIED:20230215T042654Z
UID:10000374-1688621400-1688630400@staging5.runtra.com
SUMMARY:Lalbagh Daily Morning Run
DESCRIPTION:Meet at Lalbagh entrance daily (Tu-Thu) at 6:00 AM for a 5KM to 10KM run.
URL:https://staging5.runtra.com/event/lalbagh-daily-morning-run/2023-07-06/
LOCATION:Lalbagh\, Lalbagh\, Bengaulru\, 560027\, India
CATEGORIES:Long Run
ATTACH;FMTTYPE=image/jpeg:https://staging5.runtra.com/wp-content/uploads/2022/12/20190723-running.jpg
ORGANIZER;CN="Red%20Stone%20Runners%20Club":MAILTO:hiralal@gmail.com
GEO:12.9507432;77.5847773
X-APPLE-STRUCTURED-LOCATION;VALUE=URI;X-ADDRESS=Lalbagh Lalbagh Bengaulru 560027 India;X-APPLE-RADIUS=500;X-TITLE=Lalbagh:geo:77.5847773,12.9507432
END:VEVENT
BEGIN:VEVENT
DTSTART;TZID=America/Chicago:20230711T053000
DTEND;TZID=America/Chicago:20230711T080000
DTSTAMP:20260421T131706
CREATED:20221225T054242Z
LAST-MODIFIED:20230215T042654Z
UID:10000375-1689053400-1689062400@staging5.runtra.com
SUMMARY:Lalbagh Daily Morning Run
DESCRIPTION:Meet at Lalbagh entrance daily (Tu-Thu) at 6:00 AM for a 5KM to 10KM run.
URL:https://staging5.runtra.com/event/lalbagh-daily-morning-run/2023-07-11/
LOCATION:Lalbagh\, Lalbagh\, Bengaulru\, 560027\, India
CATEGORIES:Long Run
ATTACH;FMTTYPE=image/jpeg:https://staging5.runtra.com/wp-content/uploads/2022/12/20190723-running.jpg
ORGANIZER;CN="Red%20Stone%20Runners%20Club":MAILTO:hiralal@gmail.com
GEO:12.9507432;77.5847773
X-APPLE-STRUCTURED-LOCATION;VALUE=URI;X-ADDRESS=Lalbagh Lalbagh Bengaulru 560027 India;X-APPLE-RADIUS=500;X-TITLE=Lalbagh:geo:77.5847773,12.9507432
END:VEVENT
BEGIN:VEVENT
DTSTART;TZID=America/Chicago:20230712T053000
DTEND;TZID=America/Chicago:20230712T080000
DTSTAMP:20260421T131706
CREATED:20221225T054242Z
LAST-MODIFIED:20230215T042654Z
UID:10000376-1689139800-1689148800@staging5.runtra.com
SUMMARY:Lalbagh Daily Morning Run
DESCRIPTION:Meet at Lalbagh entrance daily (Tu-Thu) at 6:00 AM for a 5KM to 10KM run.
URL:https://staging5.runtra.com/event/lalbagh-daily-morning-run/2023-07-12/
LOCATION:Lalbagh\, Lalbagh\, Bengaulru\, 560027\, India
CATEGORIES:Long Run
ATTACH;FMTTYPE=image/jpeg:https://staging5.runtra.com/wp-content/uploads/2022/12/20190723-running.jpg
ORGANIZER;CN="Red%20Stone%20Runners%20Club":MAILTO:hiralal@gmail.com
GEO:12.9507432;77.5847773
X-APPLE-STRUCTURED-LOCATION;VALUE=URI;X-ADDRESS=Lalbagh Lalbagh Bengaulru 560027 India;X-APPLE-RADIUS=500;X-TITLE=Lalbagh:geo:77.5847773,12.9507432
END:VEVENT
BEGIN:VEVENT
DTSTART;TZID=America/Chicago:20230713T053000
DTEND;TZID=America/Chicago:20230713T080000
DTSTAMP:20260421T131706
CREATED:20221225T054242Z
LAST-MODIFIED:20230215T042654Z
UID:10000377-1689226200-1689235200@staging5.runtra.com
SUMMARY:Lalbagh Daily Morning Run
DESCRIPTION:Meet at Lalbagh entrance daily (Tu-Thu) at 6:00 AM for a 5KM to 10KM run.
URL:https://staging5.runtra.com/event/lalbagh-daily-morning-run/2023-07-13/
LOCATION:Lalbagh\, Lalbagh\, Bengaulru\, 560027\, India
CATEGORIES:Long Run
ATTACH;FMTTYPE=image/jpeg:https://staging5.runtra.com/wp-content/uploads/2022/12/20190723-running.jpg
ORGANIZER;CN="Red%20Stone%20Runners%20Club":MAILTO:hiralal@gmail.com
GEO:12.9507432;77.5847773
X-APPLE-STRUCTURED-LOCATION;VALUE=URI;X-ADDRESS=Lalbagh Lalbagh Bengaulru 560027 India;X-APPLE-RADIUS=500;X-TITLE=Lalbagh:geo:77.5847773,12.9507432
END:VEVENT
BEGIN:VEVENT
DTSTART;TZID=America/Chicago:20230718T053000
DTEND;TZID=America/Chicago:20230718T080000
DTSTAMP:20260421T131706
CREATED:20221225T054242Z
LAST-MODIFIED:20230215T042654Z
UID:10000378-1689658200-1689667200@staging5.runtra.com
SUMMARY:Lalbagh Daily Morning Run
DESCRIPTION:Meet at Lalbagh entrance daily (Tu-Thu) at 6:00 AM for a 5KM to 10KM run.
URL:https://staging5.runtra.com/event/lalbagh-daily-morning-run/2023-07-18/
LOCATION:Lalbagh\, Lalbagh\, Bengaulru\, 560027\, India
CATEGORIES:Long Run
ATTACH;FMTTYPE=image/jpeg:https://staging5.runtra.com/wp-content/uploads/2022/12/20190723-running.jpg
ORGANIZER;CN="Red%20Stone%20Runners%20Club":MAILTO:hiralal@gmail.com
GEO:12.9507432;77.5847773
X-APPLE-STRUCTURED-LOCATION;VALUE=URI;X-ADDRESS=Lalbagh Lalbagh Bengaulru 560027 India;X-APPLE-RADIUS=500;X-TITLE=Lalbagh:geo:77.5847773,12.9507432
END:VEVENT
BEGIN:VEVENT
DTSTART;TZID=America/Chicago:20230719T053000
DTEND;TZID=America/Chicago:20230719T080000
DTSTAMP:20260421T131706
CREATED:20221225T054242Z
LAST-MODIFIED:20230215T042654Z
UID:10000379-1689744600-1689753600@staging5.runtra.com
SUMMARY:Lalbagh Daily Morning Run
DESCRIPTION:Meet at Lalbagh entrance daily (Tu-Thu) at 6:00 AM for a 5KM to 10KM run.
URL:https://staging5.runtra.com/event/lalbagh-daily-morning-run/2023-07-19/
LOCATION:Lalbagh\, Lalbagh\, Bengaulru\, 560027\, India
CATEGORIES:Long Run
ATTACH;FMTTYPE=image/jpeg:https://staging5.runtra.com/wp-content/uploads/2022/12/20190723-running.jpg
ORGANIZER;CN="Red%20Stone%20Runners%20Club":MAILTO:hiralal@gmail.com
GEO:12.9507432;77.5847773
X-APPLE-STRUCTURED-LOCATION;VALUE=URI;X-ADDRESS=Lalbagh Lalbagh Bengaulru 560027 India;X-APPLE-RADIUS=500;X-TITLE=Lalbagh:geo:77.5847773,12.9507432
END:VEVENT
BEGIN:VEVENT
DTSTART;TZID=America/Chicago:20230720T053000
DTEND;TZID=America/Chicago:20230720T080000
DTSTAMP:20260421T131706
CREATED:20221225T054242Z
LAST-MODIFIED:20230215T042654Z
UID:10000380-1689831000-1689840000@staging5.runtra.com
SUMMARY:Lalbagh Daily Morning Run
DESCRIPTION:Meet at Lalbagh entrance daily (Tu-Thu) at 6:00 AM for a 5KM to 10KM run.
URL:https://staging5.runtra.com/event/lalbagh-daily-morning-run/2023-07-20/
LOCATION:Lalbagh\, Lalbagh\, Bengaulru\, 560027\, India
CATEGORIES:Long Run
ATTACH;FMTTYPE=image/jpeg:https://staging5.runtra.com/wp-content/uploads/2022/12/20190723-running.jpg
ORGANIZER;CN="Red%20Stone%20Runners%20Club":MAILTO:hiralal@gmail.com
GEO:12.9507432;77.5847773
X-APPLE-STRUCTURED-LOCATION;VALUE=URI;X-ADDRESS=Lalbagh Lalbagh Bengaulru 560027 India;X-APPLE-RADIUS=500;X-TITLE=Lalbagh:geo:77.5847773,12.9507432
END:VEVENT
BEGIN:VEVENT
DTSTART;TZID=America/Chicago:20230725T053000
DTEND;TZID=America/Chicago:20230725T080000
DTSTAMP:20260421T131706
CREATED:20221225T054242Z
LAST-MODIFIED:20230215T042654Z
UID:10000381-1690263000-1690272000@staging5.runtra.com
SUMMARY:Lalbagh Daily Morning Run
DESCRIPTION:Meet at Lalbagh entrance daily (Tu-Thu) at 6:00 AM for a 5KM to 10KM run.
URL:https://staging5.runtra.com/event/lalbagh-daily-morning-run/2023-07-25/
LOCATION:Lalbagh\, Lalbagh\, Bengaulru\, 560027\, India
CATEGORIES:Long Run
ATTACH;FMTTYPE=image/jpeg:https://staging5.runtra.com/wp-content/uploads/2022/12/20190723-running.jpg
ORGANIZER;CN="Red%20Stone%20Runners%20Club":MAILTO:hiralal@gmail.com
GEO:12.9507432;77.5847773
X-APPLE-STRUCTURED-LOCATION;VALUE=URI;X-ADDRESS=Lalbagh Lalbagh Bengaulru 560027 India;X-APPLE-RADIUS=500;X-TITLE=Lalbagh:geo:77.5847773,12.9507432
END:VEVENT
END:VCALENDAR